BEGIN:VCALENDAR
VERSION:2.0
PRODID:-//Tang Sou Dao - ECPv6.15.13//NONSGML v1.0//EN
CALSCALE:GREGORIAN
METHOD:PUBLISH
X-ORIGINAL-URL:https://tangsoudao.com
X-WR-CALDESC:Events for Tang Sou Dao
REFRESH-INTERVAL;VALUE=DURATION:PT1H
X-Robots-Tag:noindex
X-PUBLISHED-TTL:PT1H
BEGIN:VTIMEZONE
TZID:UTC
BEGIN:STANDARD
TZOFFSETFROM:+0000
TZOFFSETTO:+0000
TZNAME:UTC
DTSTART:20230101T000000
END:STANDARD
END:VTIMEZONE
BEGIN:VTIMEZONE
TZID:Europe/London
BEGIN:DAYLIGHT
TZOFFSETFROM:+0000
TZOFFSETTO:+0100
TZNAME:BST
DTSTART:20230326T010000
END:DAYLIGHT
BEGIN:STANDARD
TZOFFSETFROM:+0100
TZOFFSETTO:+0000
TZNAME:GMT
DTSTART:20231029T010000
END:STANDARD
BEGIN:DAYLIGHT
TZOFFSETFROM:+0000
TZOFFSETTO:+0100
TZNAME:BST
DTSTART:20240331T010000
END:DAYLIGHT
BEGIN:STANDARD
TZOFFSETFROM:+0100
TZOFFSETTO:+0000
TZNAME:GMT
DTSTART:20241027T010000
END:STANDARD
BEGIN:DAYLIGHT
TZOFFSETFROM:+0000
TZOFFSETTO:+0100
TZNAME:BST
DTSTART:20250330T010000
END:DAYLIGHT
BEGIN:STANDARD
TZOFFSETFROM:+0100
TZOFFSETTO:+0000
TZNAME:GMT
DTSTART:20251026T010000
END:STANDARD
BEGIN:DAYLIGHT
TZOFFSETFROM:+0000
TZOFFSETTO:+0100
TZNAME:BST
DTSTART:20260329T010000
END:DAYLIGHT
BEGIN:STANDARD
TZOFFSETFROM:+0100
TZOFFSETTO:+0000
TZNAME:GMT
DTSTART:20261025T010000
END:STANDARD
END:VTIMEZONE
BEGIN:VEVENT
DTSTART;TZID=UTC:20250103T190000
DTEND;TZID=UTC:20250103T200000
DTSTAMP:20260425T171423
CREATED:20200529T132618Z
LAST-MODIFIED:20200529T132618Z
UID:24018-1735930800-1735934400@tangsoudao.com
SUMMARY:Grays RM17  Weekday mixed classes
DESCRIPTION:Grays BTSDF HQ\, Cromwell Road\, Grays\, RM17 5HFMon to Fri 7.15pm-8.15pmMixed ages and mixed abilities
URL:https://tangsoudao.com/event/grays-rm17-weekday-mixed-classes-2025-01-03/
LOCATION:Normanhall\, Grays\, RM17\, Cromwell Road\, Grays\, Essex\, RM17 5HF\, United Kingdom
ORGANIZER;CN="Grandmaster MK Loke":MAILTO:tangsoudao@aol.com
END:VEVENT
BEGIN:VEVENT
DTSTART;TZID=UTC:20250103T180000
DTEND;TZID=UTC:20250103T190000
DTSTAMP:20260425T171423
CREATED:20200530T171755Z
LAST-MODIFIED:20200530T171755Z
UID:24053-1735927200-1735930800@tangsoudao.com
SUMMARY:Reading RG4 Weekday Classes
DESCRIPTION:Highdown Sports Centre\, Surley Row\, Caversham\, RG48LRWeds and Fri 6.00pm- 7.00pmMixed ages and mixed abilities
URL:https://tangsoudao.com/event/reading-rg4-3-2025-01-03/
LOCATION:Highdown Sportscentre Reading\, RG4\, Highdown sports centre\, Caversham\, Reading\, RG48LR\, United Kingdom
ORGANIZER;CN="Master Nazim Gokcezade":MAILTO:nazim.gokcezade@ntlworld.com
END:VEVENT
BEGIN:VEVENT
DTSTART;TZID=UTC:20250103T180000
DTEND;TZID=UTC:20250103T190000
DTSTAMP:20260425T171423
CREATED:20200529T132354Z
LAST-MODIFIED:20200529T132354Z
UID:24003-1735927200-1735930800@tangsoudao.com
SUMMARY:Grays RM17 Weekday Children Classes
DESCRIPTION:Grays BTSDF HQ\, Cromwell Road\, Grays\, RM17 5HFMon to Fridays 6pm-7pmChildren under 11 only classes
URL:https://tangsoudao.com/event/grays-rm17-2025-01-03/
LOCATION:Normanhall\, Grays\, RM17\, Cromwell Road\, Grays\, Essex\, RM17 5HF\, United Kingdom
ORGANIZER;CN="Grandmaster MK Loke":MAILTO:tangsoudao@aol.com
END:VEVENT
BEGIN:VEVENT
DTSTART;TZID=UTC:20250102T193000
DTEND;TZID=UTC:20250102T203000
DTSTAMP:20260425T171423
CREATED:20200529T151406Z
LAST-MODIFIED:20200529T151406Z
UID:24039-1735846200-1735849800@tangsoudao.com
SUMMARY:Rainham RM13 Thursdays
DESCRIPTION:Brenda Blakemore Community Centre\, Davies Close\, Rainham\, Essex\, RM13 9JLThursdays 7.30pm-8.30pm
URL:https://tangsoudao.com/event/rainham-rm13-thursdays-2025-01-02/
LOCATION:Brenda Blakemore Community Centre\, RM13\, Davies Close\, Rainham\, Essex\, RM13 9JL\, United Kingdom
ORGANIZER;CN="Master David Hopkins":MAILTO:david55hopkins@btinternet.com
END:VEVENT
BEGIN:VEVENT
DTSTART;TZID=UTC:20250102T190000
DTEND;TZID=UTC:20250102T200000
DTSTAMP:20260425T171423
CREATED:20200529T152328Z
LAST-MODIFIED:20200529T152328Z
UID:24047-1735844400-1735848000@tangsoudao.com
SUMMARY:Canary Wharf E14 Weekdays
DESCRIPTION:Canary Wharf College\, 197 Eastferry Road\, E14 3BAMon and Thurs 7pm-8pmMixed ages and mixed abilities
URL:https://tangsoudao.com/event/canary-wharf-e14-weekdays-2025-01-02/
LOCATION:Canary Wharf College\, Eastferry Road\, E14\, 197 Eastferry Road\, Canary Wharf\, East London\, E143BA\, United Kingdom
ORGANIZER;CN="Master Siew Ying Loke":MAILTO:Siewloke@hotmail.com
END:VEVENT
BEGIN:VEVENT
DTSTART;TZID=UTC:20250102T190000
DTEND;TZID=UTC:20250102T200000
DTSTAMP:20260425T171423
CREATED:20200529T135800Z
LAST-MODIFIED:20200529T135800Z
UID:24028-1735844400-1735848000@tangsoudao.com
SUMMARY:Rochford SS5 Thursdays
DESCRIPTION:Clements Hall Leisure Centre\, Hawkwell\, Rochford\, SS5 4LNThursdays 7pm-8pmMixed ages and mixed abilities
URL:https://tangsoudao.com/event/rochford-ss5-2025-01-02/
LOCATION:Clements Hall Leisure Centre\, SS5\, Hawkwell\, Hockley\, Essex\, SS5 4LN\, United Kingdom
ORGANIZER;CN="Grandmaster MK Loke":MAILTO:tangsoudao@aol.com
END:VEVENT
BEGIN:VEVENT
DTSTART;TZID=UTC:20250102T190000
DTEND;TZID=UTC:20250102T200000
DTSTAMP:20260425T171423
CREATED:20200529T132618Z
LAST-MODIFIED:20200529T132618Z
UID:24017-1735844400-1735848000@tangsoudao.com
SUMMARY:Grays RM17  Weekday mixed classes
DESCRIPTION:Grays BTSDF HQ\, Cromwell Road\, Grays\, RM17 5HFMon to Fri 7.15pm-8.15pmMixed ages and mixed abilities
URL:https://tangsoudao.com/event/grays-rm17-weekday-mixed-classes-2025-01-02/
LOCATION:Normanhall\, Grays\, RM17\, Cromwell Road\, Grays\, Essex\, RM17 5HF\, United Kingdom
ORGANIZER;CN="Grandmaster MK Loke":MAILTO:tangsoudao@aol.com
END:VEVENT
BEGIN:VEVENT
DTSTART;TZID=UTC:20250102T180000
DTEND;TZID=UTC:20250102T190000
DTSTAMP:20260425T171423
CREATED:20200529T132354Z
LAST-MODIFIED:20200529T132354Z
UID:24002-1735840800-1735844400@tangsoudao.com
SUMMARY:Grays RM17 Weekday Children Classes
DESCRIPTION:Grays BTSDF HQ\, Cromwell Road\, Grays\, RM17 5HFMon to Fridays 6pm-7pmChildren under 11 only classes
URL:https://tangsoudao.com/event/grays-rm17-2025-01-02/
LOCATION:Normanhall\, Grays\, RM17\, Cromwell Road\, Grays\, Essex\, RM17 5HF\, United Kingdom
ORGANIZER;CN="Grandmaster MK Loke":MAILTO:tangsoudao@aol.com
END:VEVENT
BEGIN:VEVENT
DTSTART;TZID=Europe/London:20250102T080000
DTEND;TZID=Europe/London:20250102T083000
DTSTAMP:20260425T171423
CREATED:20201214T130601Z
LAST-MODIFIED:20201214T130601Z
UID:24087-1735804800-1735806600@tangsoudao.com
SUMMARY:Rainham RM13 Thursdays
DESCRIPTION:Brenda Blakemore Community Centre\, RM13 9JLThursdays 7.30pm-8.30pmMixed ages and Mixed abilities
URL:https://tangsoudao.com/event/rainham-rm13-thursdays-2-2025-01-02/
LOCATION:Brenda Blakemore Community Centre\, RM13\, Davies Close\, Rainham\, Essex\, RM13 9JL\, United Kingdom
ORGANIZER;CN="Master David Hopkins":MAILTO:david55hopkins@btinternet.com
END:VEVENT
BEGIN:VEVENT
DTSTART;TZID=UTC:20250101T200000
DTEND;TZID=UTC:20250101T210000
DTSTAMP:20260425T171423
CREATED:20201213T204712Z
LAST-MODIFIED:20201213T204712Z
UID:24074-1735761600-1735765200@tangsoudao.com
SUMMARY:Chelmsford CM1 Wednesdays Mixed Class
DESCRIPTION:Essex Riverside Ice and Leisure\, Victoria Road\, Chelmsford\, CM1 1FGWednesdays 8pm-9pmMixed ages and mixed abilities
URL:https://tangsoudao.com/event/chelmsford-cm1-wednesdays-mixed-class-2025-01-01/
LOCATION:Essex Riverside Ice and Leisure\, CM1\, Victoria Road\, Chelmsford\, Essex\, CM11FG\, United Kingdom
ORGANIZER;CN="Master Anna Welch":MAILTO:anna.welch@blueyonder.co.uk
END:VEVENT
BEGIN:VEVENT
DTSTART;TZID=UTC:20250101T190000
DTEND;TZID=UTC:20250101T200000
DTSTAMP:20260425T171423
CREATED:20200529T132618Z
LAST-MODIFIED:20200529T132618Z
UID:24016-1735758000-1735761600@tangsoudao.com
SUMMARY:Grays RM17  Weekday mixed classes
DESCRIPTION:Grays BTSDF HQ\, Cromwell Road\, Grays\, RM17 5HFMon to Fri 7.15pm-8.15pmMixed ages and mixed abilities
URL:https://tangsoudao.com/event/grays-rm17-weekday-mixed-classes-2025-01-01/
LOCATION:Normanhall\, Grays\, RM17\, Cromwell Road\, Grays\, Essex\, RM17 5HF\, United Kingdom
ORGANIZER;CN="Grandmaster MK Loke":MAILTO:tangsoudao@aol.com
END:VEVENT
BEGIN:VEVENT
DTSTART;TZID=UTC:20250101T180000
DTEND;TZID=UTC:20250101T193000
DTSTAMP:20260425T171423
CREATED:20200514T133624Z
LAST-MODIFIED:20200514T133624Z
UID:23982-1735754400-1735759800@tangsoudao.com
SUMMARY:Reading RG4 Red Belts Up
DESCRIPTION:Highdown Sports Centre\, Surley Row\, Caversham\, RG48LRFri 7.30pm- 9pmRed Belts and Above \n\n\n\n\n\n\n\n\n\n\n\n\n\n\n\n\n\n\n\nMixed Ages and Mixed Abilities
URL:https://tangsoudao.com/event/reading-rg4-2025-01-01/
LOCATION:Highdown Sportscentre Reading\, RG4\, Highdown sports centre\, Caversham\, Reading\, RG48LR\, United Kingdom
END:VEVENT
BEGIN:VEVENT
DTSTART;TZID=UTC:20250101T180000
DTEND;TZID=UTC:20250101T190000
DTSTAMP:20260425T171423
CREATED:20200907T112133Z
LAST-MODIFIED:20200907T112133Z
UID:24068-1735754400-1735758000@tangsoudao.com
SUMMARY:Rainham RM13 Wednesdays
DESCRIPTION:Brenda Blakemore Community Centre\, RM13 9JLWednesdays 6pm-7pm Mixed ages and Mixed abilities
URL:https://tangsoudao.com/event/rainham-rm13-wednesdays-2025-01-01/
LOCATION:Brenda Blakemore Community Centre\, RM13\, Davies Close\, Rainham\, Essex\, RM13 9JL\, United Kingdom
END:VEVENT
BEGIN:VEVENT
DTSTART;TZID=UTC:20250101T180000
DTEND;TZID=UTC:20250101T190000
DTSTAMP:20260425T171423
CREATED:20200530T171755Z
LAST-MODIFIED:20200530T171755Z
UID:24052-1735754400-1735758000@tangsoudao.com
SUMMARY:Reading RG4 Weekday Classes
DESCRIPTION:Highdown Sports Centre\, Surley Row\, Caversham\, RG48LRWeds and Fri 6.00pm- 7.00pmMixed ages and mixed abilities
URL:https://tangsoudao.com/event/reading-rg4-3-2025-01-01/
LOCATION:Highdown Sportscentre Reading\, RG4\, Highdown sports centre\, Caversham\, Reading\, RG48LR\, United Kingdom
ORGANIZER;CN="Master Nazim Gokcezade":MAILTO:nazim.gokcezade@ntlworld.com
END:VEVENT
BEGIN:VEVENT
DTSTART;TZID=UTC:20250101T180000
DTEND;TZID=UTC:20250101T190000
DTSTAMP:20260425T171423
CREATED:20200529T132354Z
LAST-MODIFIED:20200529T132354Z
UID:24001-1735754400-1735758000@tangsoudao.com
SUMMARY:Grays RM17 Weekday Children Classes
DESCRIPTION:Grays BTSDF HQ\, Cromwell Road\, Grays\, RM17 5HFMon to Fridays 6pm-7pmChildren under 11 only classes
URL:https://tangsoudao.com/event/grays-rm17-2025-01-01/
LOCATION:Normanhall\, Grays\, RM17\, Cromwell Road\, Grays\, Essex\, RM17 5HF\, United Kingdom
ORGANIZER;CN="Grandmaster MK Loke":MAILTO:tangsoudao@aol.com
END:VEVENT
BEGIN:VEVENT
DTSTART;TZID=Europe/London:20241231T190000
DTEND;TZID=Europe/London:20241231T200000
DTSTAMP:20260425T171423
CREATED:20210511T084537Z
LAST-MODIFIED:20210511T084537Z
UID:24090-1735671600-1735675200@tangsoudao.com
SUMMARY:Loughton IG9 Tuesday Mixed Class
DESCRIPTION:Loughton Methodist Church\, High Road\, IG10 1RBSaturdays 10.30am-11.30amMixed ages and mixed abilities
URL:https://tangsoudao.com/event/loughton-ig9-tuesday-mixed-class-2024-12-31/
LOCATION:Loughton Methodist Church\, IG10\, High Road\, Loughton\, Loughton\, IG101RB\, United Kingdom
ORGANIZER;CN="Bizhan Pourkomailian":MAILTO:bizhan@talktalk.net
END:VEVENT
BEGIN:VEVENT
DTSTART;TZID=UTC:20241231T190000
DTEND;TZID=UTC:20241231T200000
DTSTAMP:20260425T171423
CREATED:20200529T132618Z
LAST-MODIFIED:20200529T132618Z
UID:24015-1735671600-1735675200@tangsoudao.com
SUMMARY:Grays RM17  Weekday mixed classes
DESCRIPTION:Grays BTSDF HQ\, Cromwell Road\, Grays\, RM17 5HFMon to Fri 7.15pm-8.15pmMixed ages and mixed abilities
URL:https://tangsoudao.com/event/grays-rm17-weekday-mixed-classes-2024-12-31/
LOCATION:Normanhall\, Grays\, RM17\, Cromwell Road\, Grays\, Essex\, RM17 5HF\, United Kingdom
ORGANIZER;CN="Grandmaster MK Loke":MAILTO:tangsoudao@aol.com
END:VEVENT
BEGIN:VEVENT
DTSTART;TZID=Europe/London:20241231T183000
DTEND;TZID=Europe/London:20241231T203000
DTSTAMP:20260425T171423
CREATED:20201214T124811Z
LAST-MODIFIED:20201214T124811Z
UID:24084-1735669800-1735677000@tangsoudao.com
SUMMARY:Grafham PE28 Tuesdays- 2 classes
DESCRIPTION:Grafham Village Hall\, Brampton Road\, PE28 0URTuesday- two separate sessions\, 6.30pm-7.30pm and 7.30pm-8.30pm.Mixed ages and mixed abilities
URL:https://tangsoudao.com/event/grafham-pe28-tuesdays-2-classes-2024-12-31/
LOCATION:Grafham Village Hall\, PE28\, Grafham Village Hall\, Brampton Road\, Grafham\, PE28 0BG\, United Kingdom
ORGANIZER;CN="Master Steven Treadaway":MAILTO:steven.treadaway@talktalk.net
END:VEVENT
BEGIN:VEVENT
DTSTART;TZID=UTC:20241231T181500
DTEND;TZID=UTC:20241231T191500
DTSTAMP:20260425T171423
CREATED:20200529T131254Z
LAST-MODIFIED:20200529T131254Z
UID:23988-1735668900-1735672500@tangsoudao.com
SUMMARY:Tidmarsh RG8 Tuesdays
DESCRIPTION:Tidmarsh Village Hall\, Tidmarsh\, RG8 8ESTuesdays 6.15pm-7.15pmMixed ages and mixed abilities
URL:https://tangsoudao.com/event/tidmarsh-rg8-2024-12-31/
LOCATION:Tidmarsh Village Hall\, Tidmarsh\, RG8\, Tidmarsh Village Hall\, Tidmarsh\, Reading\, RG8 8ES\, United Kingdom
ORGANIZER;CN="Master Nazim Gokcezade":MAILTO:nazim.gokcezade@ntlworld.com
END:VEVENT
BEGIN:VEVENT
DTSTART;TZID=UTC:20241231T180000
DTEND;TZID=UTC:20241231T190000
DTSTAMP:20260425T171423
CREATED:20200529T132354Z
LAST-MODIFIED:20200529T132354Z
UID:24000-1735668000-1735671600@tangsoudao.com
SUMMARY:Grays RM17 Weekday Children Classes
DESCRIPTION:Grays BTSDF HQ\, Cromwell Road\, Grays\, RM17 5HFMon to Fridays 6pm-7pmChildren under 11 only classes
URL:https://tangsoudao.com/event/grays-rm17-2024-12-31/
LOCATION:Normanhall\, Grays\, RM17\, Cromwell Road\, Grays\, Essex\, RM17 5HF\, United Kingdom
ORGANIZER;CN="Grandmaster MK Loke":MAILTO:tangsoudao@aol.com
END:VEVENT
BEGIN:VEVENT
DTSTART;TZID=UTC:20241231T170000
DTEND;TZID=UTC:20241231T180000
DTSTAMP:20260425T171423
CREATED:20200529T130846Z
LAST-MODIFIED:20200529T130846Z
UID:23985-1735664400-1735668000@tangsoudao.com
SUMMARY:Reading RG7 Tuesdays Mixed Class
DESCRIPTION:Bucklebury Village\, Victory Room\, Bucklebury\, RG7 6PSTuesdays 5pm-6pmMixed ages and mixed abilities
URL:https://tangsoudao.com/event/reading-rg7-2024-12-31/
LOCATION:Victory Room\, Bucklebury Village\, Reading\, RG7\, Bucklebury Village\, Bucklebury\, Reading\, RG76PS\, United Kingdom
ORGANIZER;CN="Master Nazim Gokcezade":MAILTO:nazim.gokcezade@ntlworld.com
END:VEVENT
BEGIN:VEVENT
DTSTART;TZID=UTC:20241230T200000
DTEND;TZID=UTC:20241230T210000
DTSTAMP:20260425T171423
CREATED:20200529T151151Z
LAST-MODIFIED:20200529T151151Z
UID:24036-1735588800-1735592400@tangsoudao.com
SUMMARY:Basildon SS14 Mondays Mixed Class
DESCRIPTION:Kreate Dance Centre\, 30 Bowlers Croft\, Basildon\, SS14 3EEMondays 8pm-9pmMixed ages and mixed abilities
URL:https://tangsoudao.com/event/basildon-ss14-2024-12-30/
LOCATION:Kreate Dance Centre\, SS14\, 30 Bowlers Croft\, Basildon\, Essex\, SS14 3EE\, United Kingdom
END:VEVENT
BEGIN:VEVENT
DTSTART;TZID=UTC:20241230T190000
DTEND;TZID=UTC:20241230T200000
DTSTAMP:20260425T171423
CREATED:20200529T152328Z
LAST-MODIFIED:20200529T152328Z
UID:24046-1735585200-1735588800@tangsoudao.com
SUMMARY:Canary Wharf E14 Weekdays
DESCRIPTION:Canary Wharf College\, 197 Eastferry Road\, E14 3BAMon and Thurs 7pm-8pmMixed ages and mixed abilities
URL:https://tangsoudao.com/event/canary-wharf-e14-weekdays-2024-12-30/
LOCATION:Canary Wharf College\, Eastferry Road\, E14\, 197 Eastferry Road\, Canary Wharf\, East London\, E143BA\, United Kingdom
ORGANIZER;CN="Master Siew Ying Loke":MAILTO:Siewloke@hotmail.com
END:VEVENT
BEGIN:VEVENT
DTSTART;TZID=UTC:20241230T190000
DTEND;TZID=UTC:20241230T200000
DTSTAMP:20260425T171423
CREATED:20200529T132618Z
LAST-MODIFIED:20200529T132618Z
UID:24014-1735585200-1735588800@tangsoudao.com
SUMMARY:Grays RM17  Weekday mixed classes
DESCRIPTION:Grays BTSDF HQ\, Cromwell Road\, Grays\, RM17 5HFMon to Fri 7.15pm-8.15pmMixed ages and mixed abilities
URL:https://tangsoudao.com/event/grays-rm17-weekday-mixed-classes-2024-12-30/
LOCATION:Normanhall\, Grays\, RM17\, Cromwell Road\, Grays\, Essex\, RM17 5HF\, United Kingdom
ORGANIZER;CN="Grandmaster MK Loke":MAILTO:tangsoudao@aol.com
END:VEVENT
BEGIN:VEVENT
DTSTART;TZID=UTC:20241230T180000
DTEND;TZID=UTC:20241230T190000
DTSTAMP:20260425T171423
CREATED:20200529T132354Z
LAST-MODIFIED:20200529T132354Z
UID:23999-1735581600-1735585200@tangsoudao.com
SUMMARY:Grays RM17 Weekday Children Classes
DESCRIPTION:Grays BTSDF HQ\, Cromwell Road\, Grays\, RM17 5HFMon to Fridays 6pm-7pmChildren under 11 only classes
URL:https://tangsoudao.com/event/grays-rm17-2024-12-30/
LOCATION:Normanhall\, Grays\, RM17\, Cromwell Road\, Grays\, Essex\, RM17 5HF\, United Kingdom
ORGANIZER;CN="Grandmaster MK Loke":MAILTO:tangsoudao@aol.com
END:VEVENT
BEGIN:VEVENT
DTSTART;TZID=Europe/London:20241229T131500
DTEND;TZID=Europe/London:20241229T141500
DTSTAMP:20260425T171423
CREATED:20201214T122554Z
LAST-MODIFIED:20201214T122554Z
UID:24079-1735478100-1735481700@tangsoudao.com
SUMMARY:Hornchurch RM11 Sundays
DESCRIPTION:Harrow Lodge Sports centre\, Hornchurch\, RM11 1JUSundays 1.15pm-2.15pmMixed ages and mixed abilities
URL:https://tangsoudao.com/event/hornchurch-rm11-sundays-2024-12-29/
LOCATION:Harrow Lodge Sportscentre\, RM11\, Harrow Lodge Park\, Hornchurch\, Essex\, RM11 1JU\, United Kingdom
ORGANIZER;CN="Grandmaster MK Loke":MAILTO:tangsoudao@aol.com
END:VEVENT
BEGIN:VEVENT
DTSTART;TZID=UTC:20241229T113000
DTEND;TZID=UTC:20241229T123000
DTSTAMP:20260425T171423
CREATED:20200808T133910Z
LAST-MODIFIED:20200808T133910Z
UID:24056-1735471800-1735475400@tangsoudao.com
SUMMARY:Zoom Class Sundays
DESCRIPTION:Email tangsoudao@aol.com for joining and payment details
URL:https://tangsoudao.com/event/zoom-class-sundays-2024-12-29/
LOCATION:Essex
ORGANIZER;CN="Master Siew Ying Loke":MAILTO:Siewloke@hotmail.com
END:VEVENT
BEGIN:VEVENT
DTSTART;TZID=UTC:20241229T110000
DTEND;TZID=UTC:20241229T120000
DTSTAMP:20260425T171423
CREATED:20201213T204517Z
LAST-MODIFIED:20201213T204517Z
UID:24071-1735470000-1735473600@tangsoudao.com
SUMMARY:Chelmsford CM1 Sundays 11.30am Mixed Class
DESCRIPTION:Essex Riverside Ice and Leisure\, Victoria Road\, Chelmsford\, CM1 1FGSundays 11.30am-12.30noonMixed ages and mixed abilities
URL:https://tangsoudao.com/event/chelmsford-cm1-sundays-11am-mixed-class-2024-12-29/
LOCATION:Essex Riverside Ice and Leisure\, CM1\, Victoria Road\, Chelmsford\, Essex\, CM11FG\, United Kingdom
ORGANIZER;CN="Master Anna Welch":MAILTO:anna.welch@blueyonder.co.uk
END:VEVENT
BEGIN:VEVENT
DTSTART;TZID=UTC:20241229T110000
DTEND;TZID=UTC:20241229T120000
DTSTAMP:20260425T171423
CREATED:20200907T102504Z
LAST-MODIFIED:20200907T102504Z
UID:24096-1735470000-1735473600@tangsoudao.com
SUMMARY:Chelmsford Sunday Mixed Class
DESCRIPTION:Essex Riverside Ice and Leisure\, Victoria Road\, Chelmsford\, CM1 1FGSundays 11.30am-12.30amMixed ages and mixed abilities.
URL:https://tangsoudao.com/event/chelmsford-sunday-mixed-class-2023-06-25-2024-12-29/
LOCATION:Essex Riverside Ice and Leisure\, CM1\, Victoria Road\, Chelmsford\, Essex\, CM11FG\, United Kingdom
ORGANIZER;CN="Master Anna Welch":MAILTO:anna.welch@blueyonder.co.uk
END:VEVENT
BEGIN:VEVENT
DTSTART;TZID=UTC:20241229T110000
DTEND;TZID=UTC:20241229T120000
DTSTAMP:20260425T171423
CREATED:20200907T102504Z
LAST-MODIFIED:20200907T102504Z
UID:24062-1735470000-1735473600@tangsoudao.com
SUMMARY:Chelmsford Sunday Mixed Class
DESCRIPTION:Essex Riverside Ice and Leisure\, Victoria Road\, Chelmsford\, CM1 1FGSundays 11.30am-12.30pmMixed ages and mixed abilities.
URL:https://tangsoudao.com/event/chelmsford-sunday-mixed-class-2024-12-29/
LOCATION:Essex Riverside Ice and Leisure\, CM1\, Victoria Road\, Chelmsford\, Essex\, CM11FG\, United Kingdom
ORGANIZER;CN="Master Anna Welch":MAILTO:anna.welch@blueyonder.co.uk
END:VEVENT
END:VCALENDAR