BEGIN:VCALENDAR
VERSION:2.0
PRODID:-//Tang Sou Dao - ECPv6.15.13//NONSGML v1.0//EN
CALSCALE:GREGORIAN
METHOD:PUBLISH
X-WR-CALNAME:Tang Sou Dao
X-ORIGINAL-URL:https://tangsoudao.com
X-WR-CALDESC:Events for Tang Sou Dao
REFRESH-INTERVAL;VALUE=DURATION:PT1H
X-Robots-Tag:noindex
X-PUBLISHED-TTL:PT1H
BEGIN:VTIMEZONE
TZID:UTC
BEGIN:STANDARD
TZOFFSETFROM:+0000
TZOFFSETTO:+0000
TZNAME:UTC
DTSTART:20210101T000000
END:STANDARD
END:VTIMEZONE
BEGIN:VTIMEZONE
TZID:Europe/London
BEGIN:DAYLIGHT
TZOFFSETFROM:+0000
TZOFFSETTO:+0100
TZNAME:BST
DTSTART:20210328T010000
END:DAYLIGHT
BEGIN:STANDARD
TZOFFSETFROM:+0100
TZOFFSETTO:+0000
TZNAME:GMT
DTSTART:20211031T010000
END:STANDARD
BEGIN:DAYLIGHT
TZOFFSETFROM:+0000
TZOFFSETTO:+0100
TZNAME:BST
DTSTART:20220327T010000
END:DAYLIGHT
BEGIN:STANDARD
TZOFFSETFROM:+0100
TZOFFSETTO:+0000
TZNAME:GMT
DTSTART:20221030T010000
END:STANDARD
BEGIN:DAYLIGHT
TZOFFSETFROM:+0000
TZOFFSETTO:+0100
TZNAME:BST
DTSTART:20230326T010000
END:DAYLIGHT
BEGIN:STANDARD
TZOFFSETFROM:+0100
TZOFFSETTO:+0000
TZNAME:GMT
DTSTART:20231029T010000
END:STANDARD
END:VTIMEZONE
BEGIN:VEVENT
DTSTART;TZID=UTC:20220808T190000
DTEND;TZID=UTC:20220808T200000
DTSTAMP:20260426T053312
CREATED:20200529T152328Z
LAST-MODIFIED:20200529T152328Z
UID:13947-1659985200-1659988800@tangsoudao.com
SUMMARY:Canary Wharf E14 Weekdays
DESCRIPTION:Canary Wharf College\, 197 Eastferry Road\, E14 3BAMon and Thurs 7pm-8pmMixed ages and mixed abilities
URL:https://tangsoudao.com/event/canary-wharf-e14-weekdays-2022-08-08/
LOCATION:Canary Wharf College\, Eastferry Road\, E14\, 197 Eastferry Road\, Canary Wharf\, East London\, E143BA\, United Kingdom
ORGANIZER;CN="Master Siew Ying Loke":MAILTO:Siewloke@hotmail.com
END:VEVENT
BEGIN:VEVENT
DTSTART;TZID=UTC:20220808T190000
DTEND;TZID=UTC:20220808T200000
DTSTAMP:20260426T053312
CREATED:20200529T132618Z
LAST-MODIFIED:20201214T122450Z
UID:8689-1659985200-1659988800@tangsoudao.com
SUMMARY:Grays RM17  Weekday mixed classes
DESCRIPTION:Grays BTSDF HQ\, Cromwell Road\, Grays\, RM17 5HFMon to Fri 7.15pm-8.15pmMixed ages and mixed abilities
URL:https://tangsoudao.com/event/grays-rm17-weekday-mixed-classes-2022-08-08/
LOCATION:Normanhall\, Grays\, RM17\, Cromwell Road\, Grays\, Essex\, RM17 5HF\, United Kingdom
ORGANIZER;CN="Grandmaster MK Loke":MAILTO:tangsoudao@aol.com
END:VEVENT
BEGIN:VEVENT
DTSTART;TZID=UTC:20220808T180000
DTEND;TZID=UTC:20220808T190000
DTSTAMP:20260426T053312
CREATED:20200529T132354Z
LAST-MODIFIED:20200529T132354Z
UID:14439-1659981600-1659985200@tangsoudao.com
SUMMARY:Grays RM17 Weekday Children Classes
DESCRIPTION:Grays BTSDF HQ\, Cromwell Road\, Grays\, RM17 5HFMon to Fridays 6pm-7pmChildren under 11 only classes
URL:https://tangsoudao.com/event/grays-rm17-2022-08-08/
LOCATION:Normanhall\, Grays\, RM17\, Cromwell Road\, Grays\, Essex\, RM17 5HF\, United Kingdom
ORGANIZER;CN="Grandmaster MK Loke":MAILTO:tangsoudao@aol.com
END:VEVENT
BEGIN:VEVENT
DTSTART;TZID=Europe/London:20220807T131500
DTEND;TZID=Europe/London:20220807T141500
DTSTAMP:20260426T053312
CREATED:20201214T122554Z
LAST-MODIFIED:20201214T122925Z
UID:15884-1659878100-1659881700@tangsoudao.com
SUMMARY:Hornchurch RM11 Sundays
DESCRIPTION:Harrow Lodge Sports centre\, Hornchurch\, RM11 1JUSundays 1.15pm-2.15pmMixed ages and mixed abilities
URL:https://tangsoudao.com/event/hornchurch-rm11-sundays-2022-08-07/
LOCATION:Harrow Lodge Sportscentre\, RM11\, Harrow Lodge Park\, Hornchurch\, Essex\, RM11 1JU\, United Kingdom
ORGANIZER;CN="Grandmaster MK Loke":MAILTO:tangsoudao@aol.com
END:VEVENT
BEGIN:VEVENT
DTSTART;TZID=UTC:20220807T113000
DTEND;TZID=UTC:20220807T123000
DTSTAMP:20260426T053312
CREATED:20200808T133910Z
LAST-MODIFIED:20201214T110751Z
UID:12803-1659871800-1659875400@tangsoudao.com
SUMMARY:Zoom Class Sundays
DESCRIPTION:Email tangsoudao@aol.com for joining and payment details
URL:https://tangsoudao.com/event/zoom-class-sundays-2022-08-07/
LOCATION:Essex
ORGANIZER;CN="Master Siew Ying Loke":MAILTO:Siewloke@hotmail.com
END:VEVENT
BEGIN:VEVENT
DTSTART;TZID=UTC:20220807T110000
DTEND;TZID=UTC:20220807T120000
DTSTAMP:20260426T053312
CREATED:20201213T204517Z
LAST-MODIFIED:20210702T104001Z
UID:13634-1659870000-1659873600@tangsoudao.com
SUMMARY:Chelmsford CM1 Sundays 11.30am Mixed Class
DESCRIPTION:Essex Riverside Ice and Leisure\, Victoria Road\, Chelmsford\, CM1 1FGSundays 11.30am-12.30noonMixed ages and mixed abilities
URL:https://tangsoudao.com/event/chelmsford-cm1-sundays-11am-mixed-class-2022-08-07/
LOCATION:Essex Riverside Ice and Leisure\, CM1\, Victoria Road\, Chelmsford\, Essex\, CM11FG\, United Kingdom
ORGANIZER;CN="Master Anna Welch":MAILTO:anna.welch@blueyonder.co.uk
END:VEVENT
BEGIN:VEVENT
DTSTART;TZID=UTC:20220807T110000
DTEND;TZID=UTC:20220807T120000
DTSTAMP:20260426T053312
CREATED:20200907T102504Z
LAST-MODIFIED:20210704T090911Z
UID:16956-1659870000-1659873600@tangsoudao.com
SUMMARY:Chelmsford Sunday Mixed Class
DESCRIPTION:Essex Riverside Ice and Leisure\, Victoria Road\, Chelmsford\, CM1 1FGSundays 11.30am-12.30pmMixed ages and mixed abilities.
URL:https://tangsoudao.com/event/chelmsford-sunday-mixed-class-2022-08-07/
LOCATION:Essex Riverside Ice and Leisure\, CM1\, Victoria Road\, Chelmsford\, Essex\, CM11FG\, United Kingdom
ORGANIZER;CN="Master Anna Welch":MAILTO:anna.welch@blueyonder.co.uk
END:VEVENT
BEGIN:VEVENT
DTSTART;TZID=UTC:20220807T100000
DTEND;TZID=UTC:20220807T110000
DTSTAMP:20260426T053312
CREATED:20200907T103334Z
LAST-MODIFIED:20201214T143802Z
UID:9182-1659866400-1659870000@tangsoudao.com
SUMMARY:Reading RG4 Sunday Classes
DESCRIPTION:Highdown Sportscentre\, Reading\, RG4 8LRSundays 10am-11amMixed Class and Mixed Abilities
URL:https://tangsoudao.com/event/reading-rg4-sunday-classes-2022-08-07/
LOCATION:Highdown Sportscentre Reading\, RG4\, Highdown sports centre\, Caversham\, Reading\, RG48LR\, United Kingdom
ORGANIZER;CN="Master Nazim Gokcezade":MAILTO:nazim.gokcezade@ntlworld.com
END:VEVENT
BEGIN:VEVENT
DTSTART;TZID=UTC:20220807T100000
DTEND;TZID=UTC:20220807T110000
DTSTAMP:20260426T053312
CREATED:20200529T150754Z
LAST-MODIFIED:20200529T150754Z
UID:19925-1659866400-1659870000@tangsoudao.com
SUMMARY:Chelmsford CM1 Sundays 10.30am Family Class.
DESCRIPTION:Essex Riverside Ice and Leisure\, Victoria Road\, Chelmsford\, CM1 1FGSundays 10.30am-11.30amMixed ages and mixed abilities
URL:https://tangsoudao.com/event/chelmsford-cm1-sundays-11-30am-2021-06-06-2022-08-07/
LOCATION:Essex Riverside Ice and Leisure\, CM1\, Victoria Road\, Chelmsford\, Essex\, CM11FG\, United Kingdom
ORGANIZER;CN="Master Anna Welch":MAILTO:anna.welch@blueyonder.co.uk
END:VEVENT
BEGIN:VEVENT
DTSTART;TZID=UTC:20220807T100000
DTEND;TZID=UTC:20220807T110000
DTSTAMP:20260426T053312
CREATED:20200529T150754Z
LAST-MODIFIED:20200529T150754Z
UID:20273-1659866400-1659870000@tangsoudao.com
SUMMARY:Chelmsford CM1 Sundays 10.30am Family Class.
DESCRIPTION:Essex Riverside Ice and Leisure\, Victoria Road\, Chelmsford\, CM1 1FGSundays 1030am-11.30amMixed ages and mixed abilities
URL:https://tangsoudao.com/event/chelmsford-cm1-sundays-11-30am-2022-08-07/
LOCATION:Essex Riverside Ice and Leisure\, CM1\, Victoria Road\, Chelmsford\, Essex\, CM11FG\, United Kingdom
ORGANIZER;CN="Master Anna Welch":MAILTO:anna.welch@blueyonder.co.uk
END:VEVENT
BEGIN:VEVENT
DTSTART;TZID=Europe/London:20220807T090000
DTEND;TZID=Europe/London:20220807T110000
DTSTAMP:20260426T053312
CREATED:20211223T102301Z
LAST-MODIFIED:20211223T102303Z
UID:21382-1659862800-1659870000@tangsoudao.com
SUMMARY:Senior Class 7 August 2022
DESCRIPTION:This is a class for Blue Belts upwards. Focus will be on perfecting your technique and practising advanced combinations and footwork. We will also concentrate on the senior belt forms. You are required to attend a minimum number of classes in order to progress to your Duan grades.
URL:https://tangsoudao.com/event/senior-class-7-august-2022/
LOCATION:Normanhall\, Grays\, RM17\, Cromwell Road\, Grays\, Essex\, RM17 5HF\, United Kingdom
CATEGORIES:Workshops
ORGANIZER;CN="Grandmaster MK Loke":MAILTO:tangsoudao@aol.com
END:VEVENT
BEGIN:VEVENT
DTSTART;TZID=UTC:20220806T123000
DTEND;TZID=UTC:20220806T133000
DTSTAMP:20260426T053312
CREATED:20200529T133232Z
LAST-MODIFIED:20201214T113258Z
UID:12634-1659789000-1659792600@tangsoudao.com
SUMMARY:Grays RM17 Saturday Mixed Class
DESCRIPTION:Grays BTSDF HQ\, Cromwell Road\, RM17 5HFSaturdays 12.30pm-1.30pmMixed ages and abilities
URL:https://tangsoudao.com/event/grays-rm17-saturday-mixed-class-2022-08-06/
LOCATION:Normanhall\, Grays\, RM17\, Cromwell Road\, Grays\, Essex\, RM17 5HF\, United Kingdom
ORGANIZER;CN="Grandmaster MK Loke":MAILTO:tangsoudao@aol.com
END:VEVENT
BEGIN:VEVENT
DTSTART;TZID=UTC:20220806T111500
DTEND;TZID=UTC:20220806T121500
DTSTAMP:20260426T053312
CREATED:20200529T133008Z
LAST-MODIFIED:20210531T215301Z
UID:12674-1659784500-1659788100@tangsoudao.com
SUMMARY:Grays RM17 Weekend Children Classes
DESCRIPTION:Grays BTSDF HQ\, Cromwell Road\, Grays\, RM17 5HFSaturdays 11.00am-12.00pmChildren under 11 classes
URL:https://tangsoudao.com/event/grays-rm17-weekend-children-classes-2022-08-06/
LOCATION:Normanhall\, Grays\, RM17\, Cromwell Road\, Grays\, Essex\, RM17 5HF\, United Kingdom
ORGANIZER;CN="Grandmaster MK Loke":MAILTO:tangsoudao@aol.com
END:VEVENT
BEGIN:VEVENT
DTSTART;TZID=UTC:20220806T103000
DTEND;TZID=UTC:20220806T113000
DTSTAMP:20260426T053312
CREATED:20200529T135945Z
LAST-MODIFIED:20210511T084700Z
UID:8920-1659781800-1659785400@tangsoudao.com
SUMMARY:Loughton IG9 Saturday Mixed Class
DESCRIPTION:Loughton Methodist Church\, High Road\, IG10 1RBSaturdays 10.30am-11.30amMixed ages and mixed abilities
URL:https://tangsoudao.com/event/loughton-ig10-2022-08-06/
LOCATION:Loughton Methodist Church\, IG10\, High Road\, Loughton\, Loughton\, IG101RB\, United Kingdom
ORGANIZER;CN="Bizhan Pourkomailian":MAILTO:bizhan@talktalk.net
END:VEVENT
BEGIN:VEVENT
DTSTART;TZID=UTC:20220806T100000
DTEND;TZID=UTC:20220806T110000
DTSTAMP:20260426T053312
CREATED:20200529T151601Z
LAST-MODIFIED:20200529T151601Z
UID:10233-1659780000-1659783600@tangsoudao.com
SUMMARY:Rainham RM13 Saturdays
DESCRIPTION:Brenda Blakemore Community Centre\, Davies Close\, Rainham\, Essex\, RM13 9JLSaturdays 10am-11amMixed ages and mixed abilities
URL:https://tangsoudao.com/event/rainham-rm13-saturdays-2022-08-06/
LOCATION:Brenda Blakemore Community Centre\, RM13\, Davies Close\, Rainham\, Essex\, RM13 9JL\, United Kingdom
ORGANIZER;CN="Master David Hopkins":MAILTO:david55hopkins@btinternet.com
END:VEVENT
BEGIN:VEVENT
DTSTART;TZID=Europe/London:20220806T090000
DTEND;TZID=Europe/London:20220806T120000
DTSTAMP:20260426T053312
CREATED:20201214T124303Z
LAST-MODIFIED:20201214T124303Z
UID:16089-1659776400-1659787200@tangsoudao.com
SUMMARY:Grafham PE28 Saturdays- 3 classes
DESCRIPTION:Grafham Village Hall\, Brampton Road\, PE28 0URSaturday- three separate sessions\, 9am-10am\, 10am-11am and 11am-12noon. Mixed ages and mixed abilities
URL:https://tangsoudao.com/event/grafham-pe28-saturdays-3-classes-2022-08-06/
LOCATION:Grafham Village Hall\, PE28\, Grafham Village Hall\, Brampton Road\, Grafham\, PE28 0BG\, United Kingdom
ORGANIZER;CN="Master Steven Treadaway":MAILTO:steven.treadaway@talktalk.net
END:VEVENT
BEGIN:VEVENT
DTSTART;TZID=UTC:20220805T190000
DTEND;TZID=UTC:20220805T200000
DTSTAMP:20260426T053312
CREATED:20200529T132618Z
LAST-MODIFIED:20201214T122450Z
UID:8688-1659726000-1659729600@tangsoudao.com
SUMMARY:Grays RM17  Weekday mixed classes
DESCRIPTION:Grays BTSDF HQ\, Cromwell Road\, Grays\, RM17 5HFMon to Fri 7.15pm-8.15pmMixed ages and mixed abilities
URL:https://tangsoudao.com/event/grays-rm17-weekday-mixed-classes-2022-08-05/
LOCATION:Normanhall\, Grays\, RM17\, Cromwell Road\, Grays\, Essex\, RM17 5HF\, United Kingdom
ORGANIZER;CN="Grandmaster MK Loke":MAILTO:tangsoudao@aol.com
END:VEVENT
BEGIN:VEVENT
DTSTART;TZID=UTC:20220805T180000
DTEND;TZID=UTC:20220805T190000
DTSTAMP:20260426T053312
CREATED:20200530T171755Z
LAST-MODIFIED:20200530T171755Z
UID:12273-1659722400-1659726000@tangsoudao.com
SUMMARY:Reading RG4 Weekday Classes
DESCRIPTION:Highdown Sports Centre\, Surley Row\, Caversham\, RG48LRWeds and Fri 6.00pm- 7.00pmMixed ages and mixed abilities
URL:https://tangsoudao.com/event/reading-rg4-3-2022-08-05/
LOCATION:Highdown Sportscentre Reading\, RG4\, Highdown sports centre\, Caversham\, Reading\, RG48LR\, United Kingdom
ORGANIZER;CN="Master Nazim Gokcezade":MAILTO:nazim.gokcezade@ntlworld.com
END:VEVENT
BEGIN:VEVENT
DTSTART;TZID=UTC:20220805T180000
DTEND;TZID=UTC:20220805T190000
DTSTAMP:20260426T053312
CREATED:20200529T132354Z
LAST-MODIFIED:20201214T112248Z
UID:11517-1659722400-1659726000@tangsoudao.com
SUMMARY:Grays RM17 Weekday Children Classes
DESCRIPTION:Grays BTSDF HQ\, Cromwell Road\, Grays\, RM17 5HFMon to Fridays 6pm-7pmChildren under 11 only classes
URL:https://tangsoudao.com/event/grays-rm17-2022-08-05/
LOCATION:Normanhall\, Grays\, RM17\, Cromwell Road\, Grays\, Essex\, RM17 5HF\, United Kingdom
ORGANIZER;CN="Grandmaster MK Loke":MAILTO:tangsoudao@aol.com
END:VEVENT
BEGIN:VEVENT
DTSTART;TZID=UTC:20220804T190000
DTEND;TZID=UTC:20220804T200000
DTSTAMP:20260426T053312
CREATED:20200529T152328Z
LAST-MODIFIED:20200529T152328Z
UID:13946-1659639600-1659643200@tangsoudao.com
SUMMARY:Canary Wharf E14 Weekdays
DESCRIPTION:Canary Wharf College\, 197 Eastferry Road\, E14 3BAMon and Thurs 7pm-8pmMixed ages and mixed abilities
URL:https://tangsoudao.com/event/canary-wharf-e14-weekdays-2022-08-04/
LOCATION:Canary Wharf College\, Eastferry Road\, E14\, 197 Eastferry Road\, Canary Wharf\, East London\, E143BA\, United Kingdom
ORGANIZER;CN="Master Siew Ying Loke":MAILTO:Siewloke@hotmail.com
END:VEVENT
BEGIN:VEVENT
DTSTART;TZID=UTC:20220804T190000
DTEND;TZID=UTC:20220804T200000
DTSTAMP:20260426T053312
CREATED:20200529T135800Z
LAST-MODIFIED:20200529T135800Z
UID:23961-1659639600-1659643200@tangsoudao.com
SUMMARY:Rochford SS5 Thursdays
DESCRIPTION:Clements Hall Leisure Centre\, Hawkwell\, Rochford\, SS5 4LNThursdays 7pm-8pmMixed ages and mixed abilities
URL:https://tangsoudao.com/event/rochford-ss5-2022-08-04/
LOCATION:Clements Hall Leisure Centre\, SS5\, Hawkwell\, Hockley\, Essex\, SS5 4LN\, United Kingdom
ORGANIZER;CN="Grandmaster MK Loke":MAILTO:tangsoudao@aol.com
END:VEVENT
BEGIN:VEVENT
DTSTART;TZID=UTC:20220804T190000
DTEND;TZID=UTC:20220804T200000
DTSTAMP:20260426T053312
CREATED:20200529T132618Z
LAST-MODIFIED:20201214T122449Z
UID:8687-1659639600-1659643200@tangsoudao.com
SUMMARY:Grays RM17  Weekday mixed classes
DESCRIPTION:Grays BTSDF HQ\, Cromwell Road\, Grays\, RM17 5HFMon to Fri 7.15pm-8.15pmMixed ages and mixed abilities
URL:https://tangsoudao.com/event/grays-rm17-weekday-mixed-classes-2022-08-04/
LOCATION:Normanhall\, Grays\, RM17\, Cromwell Road\, Grays\, Essex\, RM17 5HF\, United Kingdom
ORGANIZER;CN="Grandmaster MK Loke":MAILTO:tangsoudao@aol.com
END:VEVENT
BEGIN:VEVENT
DTSTART;TZID=UTC:20220804T180000
DTEND;TZID=UTC:20220804T190000
DTSTAMP:20260426T053312
CREATED:20200529T132354Z
LAST-MODIFIED:20201214T112248Z
UID:11516-1659636000-1659639600@tangsoudao.com
SUMMARY:Grays RM17 Weekday Children Classes
DESCRIPTION:Grays BTSDF HQ\, Cromwell Road\, Grays\, RM17 5HFMon to Fridays 6pm-7pmChildren under 11 only classes
URL:https://tangsoudao.com/event/grays-rm17-2022-08-04/
LOCATION:Normanhall\, Grays\, RM17\, Cromwell Road\, Grays\, Essex\, RM17 5HF\, United Kingdom
ORGANIZER;CN="Grandmaster MK Loke":MAILTO:tangsoudao@aol.com
END:VEVENT
BEGIN:VEVENT
DTSTART;TZID=Europe/London:20220804T080000
DTEND;TZID=Europe/London:20220804T083000
DTSTAMP:20260426T053312
CREATED:20201214T130601Z
LAST-MODIFIED:20201214T131233Z
UID:16496-1659600000-1659601800@tangsoudao.com
SUMMARY:Rainham RM13 Thursdays
DESCRIPTION:Brenda Blakemore Community Centre\, RM13 9JLThursdays 6.30pm-7.30pmMixed ages and Mixed abilities
URL:https://tangsoudao.com/event/rainham-rm13-thursdays-2-2022-08-04/
LOCATION:Brenda Blakemore Community Centre\, RM13\, Davies Close\, Rainham\, Essex\, RM13 9JL\, United Kingdom
ORGANIZER;CN="Master David Hopkins":MAILTO:david55hopkins@btinternet.com
END:VEVENT
BEGIN:VEVENT
DTSTART;TZID=UTC:20220803T200000
DTEND;TZID=UTC:20220803T210000
DTSTAMP:20260426T053312
CREATED:20201213T204712Z
LAST-MODIFIED:20210602T095428Z
UID:13683-1659556800-1659560400@tangsoudao.com
SUMMARY:Chelmsford CM1 Wednesdays Mixed Class
DESCRIPTION:Essex Riverside Ice and Leisure\, Victoria Road\, Chelmsford\, CM1 1FGWednesdays 8pm-9pmMixed ages and mixed abilities
URL:https://tangsoudao.com/event/chelmsford-cm1-wednesdays-mixed-class-2022-08-03/
LOCATION:Essex Riverside Ice and Leisure\, CM1\, Victoria Road\, Chelmsford\, Essex\, CM11FG\, United Kingdom
ORGANIZER;CN="Master Anna Welch":MAILTO:anna.welch@blueyonder.co.uk
END:VEVENT
BEGIN:VEVENT
DTSTART;TZID=UTC:20220803T190000
DTEND;TZID=UTC:20220803T200000
DTSTAMP:20260426T053312
CREATED:20200529T132618Z
LAST-MODIFIED:20201214T122449Z
UID:8686-1659553200-1659556800@tangsoudao.com
SUMMARY:Grays RM17  Weekday mixed classes
DESCRIPTION:Grays BTSDF HQ\, Cromwell Road\, Grays\, RM17 5HFMon to Fri 7.15pm-8.15pmMixed ages and mixed abilities
URL:https://tangsoudao.com/event/grays-rm17-weekday-mixed-classes-2022-08-03/
LOCATION:Normanhall\, Grays\, RM17\, Cromwell Road\, Grays\, Essex\, RM17 5HF\, United Kingdom
ORGANIZER;CN="Grandmaster MK Loke":MAILTO:tangsoudao@aol.com
END:VEVENT
BEGIN:VEVENT
DTSTART;TZID=UTC:20220803T180000
DTEND;TZID=UTC:20220803T193000
DTSTAMP:20260426T053312
CREATED:20200514T133624Z
LAST-MODIFIED:20210602T101337Z
UID:18986-1659549600-1659555000@tangsoudao.com
SUMMARY:Reading RG4 Red Belts Up
DESCRIPTION:Highdown Sports Centre\, Surley Row\, Caversham\, RG48LRFri 7.30pm- 9pmRed Belts and Above \n\n\n\n\n\n\n\n\n\n\n\n\n\n\n\n\n\n\n\nMixed Ages and Mixed Abilities
URL:https://tangsoudao.com/event/reading-rg4-2022-08-03/
LOCATION:Highdown Sportscentre Reading\, RG4\, Highdown sports centre\, Caversham\, Reading\, RG48LR\, United Kingdom
END:VEVENT
BEGIN:VEVENT
DTSTART;TZID=UTC:20220803T180000
DTEND;TZID=UTC:20220803T190000
DTSTAMP:20260426T053312
CREATED:20200907T112133Z
LAST-MODIFIED:20200907T112133Z
UID:16392-1659549600-1659553200@tangsoudao.com
SUMMARY:Rainham RM13 Wednesdays
DESCRIPTION:Brenda Blakemore Community Centre\, RM13 9JLWednesdays 6pm-7pm Mixed ages and Mixed abilities
URL:https://tangsoudao.com/event/rainham-rm13-wednesdays-2022-08-03/
LOCATION:Brenda Blakemore Community Centre\, RM13\, Davies Close\, Rainham\, Essex\, RM13 9JL\, United Kingdom
END:VEVENT
BEGIN:VEVENT
DTSTART;TZID=UTC:20220803T180000
DTEND;TZID=UTC:20220803T190000
DTSTAMP:20260426T053312
CREATED:20200530T171755Z
LAST-MODIFIED:20200530T171755Z
UID:12272-1659549600-1659553200@tangsoudao.com
SUMMARY:Reading RG4 Weekday Classes
DESCRIPTION:Highdown Sports Centre\, Surley Row\, Caversham\, RG48LRWeds and Fri 6.00pm- 7.00pmMixed ages and mixed abilities
URL:https://tangsoudao.com/event/reading-rg4-3-2022-08-03/
LOCATION:Highdown Sportscentre Reading\, RG4\, Highdown sports centre\, Caversham\, Reading\, RG48LR\, United Kingdom
ORGANIZER;CN="Master Nazim Gokcezade":MAILTO:nazim.gokcezade@ntlworld.com
END:VEVENT
BEGIN:VEVENT
DTSTART;TZID=UTC:20220803T180000
DTEND;TZID=UTC:20220803T190000
DTSTAMP:20260426T053312
CREATED:20200529T132354Z
LAST-MODIFIED:20200529T132354Z
UID:14438-1659549600-1659553200@tangsoudao.com
SUMMARY:Grays RM17 Weekday Children Classes
DESCRIPTION:Grays BTSDF HQ\, Cromwell Road\, Grays\, RM17 5HFMon to Fridays 6pm-7pmChildren under 11 only classes
URL:https://tangsoudao.com/event/grays-rm17-2022-08-03/
LOCATION:Normanhall\, Grays\, RM17\, Cromwell Road\, Grays\, Essex\, RM17 5HF\, United Kingdom
ORGANIZER;CN="Grandmaster MK Loke":MAILTO:tangsoudao@aol.com
END:VEVENT
END:VCALENDAR