BEGIN:VCALENDAR
VERSION:2.0
PRODID:-//Tang Sou Dao - ECPv6.15.13//NONSGML v1.0//EN
CALSCALE:GREGORIAN
METHOD:PUBLISH
X-WR-CALNAME:Tang Sou Dao
X-ORIGINAL-URL:https://tangsoudao.com
X-WR-CALDESC:Events for Tang Sou Dao
REFRESH-INTERVAL;VALUE=DURATION:PT1H
X-Robots-Tag:noindex
X-PUBLISHED-TTL:PT1H
BEGIN:VTIMEZONE
TZID:UTC
BEGIN:STANDARD
TZOFFSETFROM:+0000
TZOFFSETTO:+0000
TZNAME:UTC
DTSTART:20210101T000000
END:STANDARD
END:VTIMEZONE
BEGIN:VTIMEZONE
TZID:Europe/London
BEGIN:DAYLIGHT
TZOFFSETFROM:+0000
TZOFFSETTO:+0100
TZNAME:BST
DTSTART:20210328T010000
END:DAYLIGHT
BEGIN:STANDARD
TZOFFSETFROM:+0100
TZOFFSETTO:+0000
TZNAME:GMT
DTSTART:20211031T010000
END:STANDARD
BEGIN:DAYLIGHT
TZOFFSETFROM:+0000
TZOFFSETTO:+0100
TZNAME:BST
DTSTART:20220327T010000
END:DAYLIGHT
BEGIN:STANDARD
TZOFFSETFROM:+0100
TZOFFSETTO:+0000
TZNAME:GMT
DTSTART:20221030T010000
END:STANDARD
BEGIN:DAYLIGHT
TZOFFSETFROM:+0000
TZOFFSETTO:+0100
TZNAME:BST
DTSTART:20230326T010000
END:DAYLIGHT
BEGIN:STANDARD
TZOFFSETFROM:+0100
TZOFFSETTO:+0000
TZNAME:GMT
DTSTART:20231029T010000
END:STANDARD
END:VTIMEZONE
BEGIN:VEVENT
DTSTART;TZID=UTC:20220727T190000
DTEND;TZID=UTC:20220727T200000
DTSTAMP:20260425T222047
CREATED:20200529T132618Z
LAST-MODIFIED:20201214T122447Z
UID:8681-1658948400-1658952000@tangsoudao.com
SUMMARY:Grays RM17  Weekday mixed classes
DESCRIPTION:Grays BTSDF HQ\, Cromwell Road\, Grays\, RM17 5HFMon to Fri 7.15pm-8.15pmMixed ages and mixed abilities
URL:https://tangsoudao.com/event/grays-rm17-weekday-mixed-classes-2022-07-27/
LOCATION:Normanhall\, Grays\, RM17\, Cromwell Road\, Grays\, Essex\, RM17 5HF\, United Kingdom
ORGANIZER;CN="Grandmaster MK Loke":MAILTO:tangsoudao@aol.com
END:VEVENT
BEGIN:VEVENT
DTSTART;TZID=UTC:20220727T180000
DTEND;TZID=UTC:20220727T193000
DTSTAMP:20260425T222047
CREATED:20200514T133624Z
LAST-MODIFIED:20210602T101335Z
UID:18985-1658944800-1658950200@tangsoudao.com
SUMMARY:Reading RG4 Red Belts Up
DESCRIPTION:Highdown Sports Centre\, Surley Row\, Caversham\, RG48LRFri 7.30pm- 9pmRed Belts and Above \n\n\n\n\n\n\n\n\n\n\n\n\n\n\n\n\n\n\n\nMixed Ages and Mixed Abilities
URL:https://tangsoudao.com/event/reading-rg4-2022-07-27/
LOCATION:Highdown Sportscentre Reading\, RG4\, Highdown sports centre\, Caversham\, Reading\, RG48LR\, United Kingdom
END:VEVENT
BEGIN:VEVENT
DTSTART;TZID=UTC:20220727T180000
DTEND;TZID=UTC:20220727T190000
DTSTAMP:20260425T222047
CREATED:20200907T112133Z
LAST-MODIFIED:20200907T112133Z
UID:16391-1658944800-1658948400@tangsoudao.com
SUMMARY:Rainham RM13 Wednesdays
DESCRIPTION:Brenda Blakemore Community Centre\, RM13 9JLWednesdays 6pm-7pm Mixed ages and Mixed abilities
URL:https://tangsoudao.com/event/rainham-rm13-wednesdays-2022-07-27/
LOCATION:Brenda Blakemore Community Centre\, RM13\, Davies Close\, Rainham\, Essex\, RM13 9JL\, United Kingdom
END:VEVENT
BEGIN:VEVENT
DTSTART;TZID=UTC:20220727T180000
DTEND;TZID=UTC:20220727T190000
DTSTAMP:20260425T222047
CREATED:20200530T171755Z
LAST-MODIFIED:20200530T171755Z
UID:12270-1658944800-1658948400@tangsoudao.com
SUMMARY:Reading RG4 Weekday Classes
DESCRIPTION:Highdown Sports Centre\, Surley Row\, Caversham\, RG48LRWeds and Fri 6.00pm- 7.00pmMixed ages and mixed abilities
URL:https://tangsoudao.com/event/reading-rg4-3-2022-07-27/
LOCATION:Highdown Sportscentre Reading\, RG4\, Highdown sports centre\, Caversham\, Reading\, RG48LR\, United Kingdom
ORGANIZER;CN="Master Nazim Gokcezade":MAILTO:nazim.gokcezade@ntlworld.com
END:VEVENT
BEGIN:VEVENT
DTSTART;TZID=UTC:20220727T180000
DTEND;TZID=UTC:20220727T190000
DTSTAMP:20260425T222047
CREATED:20200529T132354Z
LAST-MODIFIED:20200529T132354Z
UID:14436-1658944800-1658948400@tangsoudao.com
SUMMARY:Grays RM17 Weekday Children Classes
DESCRIPTION:Grays BTSDF HQ\, Cromwell Road\, Grays\, RM17 5HFMon to Fridays 6pm-7pmChildren under 11 only classes
URL:https://tangsoudao.com/event/grays-rm17-2022-07-27/
LOCATION:Normanhall\, Grays\, RM17\, Cromwell Road\, Grays\, Essex\, RM17 5HF\, United Kingdom
ORGANIZER;CN="Grandmaster MK Loke":MAILTO:tangsoudao@aol.com
END:VEVENT
BEGIN:VEVENT
DTSTART;TZID=Europe/London:20220726T190000
DTEND;TZID=Europe/London:20220726T200000
DTSTAMP:20260425T222047
CREATED:20210511T084537Z
LAST-MODIFIED:20210511T084537Z
UID:18579-1658862000-1658865600@tangsoudao.com
SUMMARY:Loughton IG9 Tuesday Mixed Class
DESCRIPTION:Loughton Methodist Church\, High Road\, IG10 1RBSaturdays 10.30am-11.30amMixed ages and mixed abilities
URL:https://tangsoudao.com/event/loughton-ig9-tuesday-mixed-class-2022-07-26/
LOCATION:Loughton Methodist Church\, IG10\, High Road\, Loughton\, Loughton\, IG101RB\, United Kingdom
ORGANIZER;CN="Bizhan Pourkomailian":MAILTO:bizhan@talktalk.net
END:VEVENT
BEGIN:VEVENT
DTSTART;TZID=UTC:20220726T190000
DTEND;TZID=UTC:20220726T200000
DTSTAMP:20260425T222047
CREATED:20200529T132618Z
LAST-MODIFIED:20201214T122446Z
UID:8680-1658862000-1658865600@tangsoudao.com
SUMMARY:Grays RM17  Weekday mixed classes
DESCRIPTION:Grays BTSDF HQ\, Cromwell Road\, Grays\, RM17 5HFMon to Fri 7.15pm-8.15pmMixed ages and mixed abilities
URL:https://tangsoudao.com/event/grays-rm17-weekday-mixed-classes-2022-07-26/
LOCATION:Normanhall\, Grays\, RM17\, Cromwell Road\, Grays\, Essex\, RM17 5HF\, United Kingdom
ORGANIZER;CN="Grandmaster MK Loke":MAILTO:tangsoudao@aol.com
END:VEVENT
BEGIN:VEVENT
DTSTART;TZID=UTC:20220726T181500
DTEND;TZID=UTC:20220726T191500
DTSTAMP:20260425T222047
CREATED:20200529T131254Z
LAST-MODIFIED:20201214T144624Z
UID:9307-1658859300-1658862900@tangsoudao.com
SUMMARY:Tidmarsh RG8 Tuesdays
DESCRIPTION:Tidmarsh Village Hall\, Tidmarsh\, RG8 8ESTuesdays 6.15pm-7.15pmMixed ages and mixed abilities
URL:https://tangsoudao.com/event/tidmarsh-rg8-2022-07-26/
LOCATION:Tidmarsh Village Hall\, Tidmarsh\, RG8\, Tidmarsh Village Hall\, Tidmarsh\, Reading\, RG8 8ES\, United Kingdom
ORGANIZER;CN="Master Nazim Gokcezade":MAILTO:nazim.gokcezade@ntlworld.com
END:VEVENT
BEGIN:VEVENT
DTSTART;TZID=UTC:20220726T180000
DTEND;TZID=UTC:20220726T190000
DTSTAMP:20260425T222047
CREATED:20200529T132354Z
LAST-MODIFIED:20201214T112241Z
UID:11512-1658858400-1658862000@tangsoudao.com
SUMMARY:Grays RM17 Weekday Children Classes
DESCRIPTION:Grays BTSDF HQ\, Cromwell Road\, Grays\, RM17 5HFMon to Fridays 6pm-7pmChildren under 11 only classes
URL:https://tangsoudao.com/event/grays-rm17-2022-07-26/
LOCATION:Normanhall\, Grays\, RM17\, Cromwell Road\, Grays\, Essex\, RM17 5HF\, United Kingdom
ORGANIZER;CN="Grandmaster MK Loke":MAILTO:tangsoudao@aol.com
END:VEVENT
BEGIN:VEVENT
DTSTART;TZID=UTC:20220726T170000
DTEND;TZID=UTC:20220726T180000
DTSTAMP:20260425T222047
CREATED:20200529T130846Z
LAST-MODIFIED:20210511T084938Z
UID:11561-1658854800-1658858400@tangsoudao.com
SUMMARY:Reading RG7 Tuesdays
DESCRIPTION:Bucklebury Village\, Victory Room\, Bucklebury\, RG7 6PSTuesdays 5pm-6pmMixed ages and mixed abilities
URL:https://tangsoudao.com/event/reading-rg7-2022-07-26/
LOCATION:Victory Room\, Bucklebury Village\, Reading\, RG7\, Bucklebury Village\, Bucklebury\, Reading\, RG76PS\, United Kingdom
ORGANIZER;CN="Master Nazim Gokcezade":MAILTO:nazim.gokcezade@ntlworld.com
END:VEVENT
BEGIN:VEVENT
DTSTART;TZID=UTC:20220725T200000
DTEND;TZID=UTC:20220725T210000
DTSTAMP:20260425T222047
CREATED:20200529T151151Z
LAST-MODIFIED:20200907T124459Z
UID:11184-1658779200-1658782800@tangsoudao.com
SUMMARY:Basildon SS14 CLASS CURRENTLY SUSPENDED
DESCRIPTION:Kreate Dance Centre\, 30 Bowlers Croft\, Basildon\, SS14 3EEMondays 8pm-9pmMixed ages and mixed abilities
URL:https://tangsoudao.com/event/basildon-ss14-2022-07-25/
LOCATION:Kreate Dance Centre\, SS14\, 30 Bowlers Croft\, Basildon\, Essex\, SS14 3EE\, United Kingdom
END:VEVENT
BEGIN:VEVENT
DTSTART;TZID=UTC:20220725T190000
DTEND;TZID=UTC:20220725T200000
DTSTAMP:20260425T222047
CREATED:20200529T152328Z
LAST-MODIFIED:20200529T152328Z
UID:13943-1658775600-1658779200@tangsoudao.com
SUMMARY:Canary Wharf E14 Weekdays
DESCRIPTION:Canary Wharf College\, 197 Eastferry Road\, E14 3BAMon and Thurs 7pm-8pmMixed ages and mixed abilities
URL:https://tangsoudao.com/event/canary-wharf-e14-weekdays-2022-07-25/
LOCATION:Canary Wharf College\, Eastferry Road\, E14\, 197 Eastferry Road\, Canary Wharf\, East London\, E143BA\, United Kingdom
ORGANIZER;CN="Master Siew Ying Loke":MAILTO:Siewloke@hotmail.com
END:VEVENT
BEGIN:VEVENT
DTSTART;TZID=UTC:20220725T190000
DTEND;TZID=UTC:20220725T200000
DTSTAMP:20260425T222047
CREATED:20200529T132618Z
LAST-MODIFIED:20201214T122444Z
UID:8679-1658775600-1658779200@tangsoudao.com
SUMMARY:Grays RM17  Weekday mixed classes
DESCRIPTION:Grays BTSDF HQ\, Cromwell Road\, Grays\, RM17 5HFMon to Fri 7.15pm-8.15pmMixed ages and mixed abilities
URL:https://tangsoudao.com/event/grays-rm17-weekday-mixed-classes-2022-07-25/
LOCATION:Normanhall\, Grays\, RM17\, Cromwell Road\, Grays\, Essex\, RM17 5HF\, United Kingdom
ORGANIZER;CN="Grandmaster MK Loke":MAILTO:tangsoudao@aol.com
END:VEVENT
BEGIN:VEVENT
DTSTART;TZID=UTC:20220725T180000
DTEND;TZID=UTC:20220725T190000
DTSTAMP:20260425T222047
CREATED:20200529T132354Z
LAST-MODIFIED:20200529T132354Z
UID:14435-1658772000-1658775600@tangsoudao.com
SUMMARY:Grays RM17 Weekday Children Classes
DESCRIPTION:Grays BTSDF HQ\, Cromwell Road\, Grays\, RM17 5HFMon to Fridays 6pm-7pmChildren under 11 only classes
URL:https://tangsoudao.com/event/grays-rm17-2022-07-25/
LOCATION:Normanhall\, Grays\, RM17\, Cromwell Road\, Grays\, Essex\, RM17 5HF\, United Kingdom
ORGANIZER;CN="Grandmaster MK Loke":MAILTO:tangsoudao@aol.com
END:VEVENT
BEGIN:VEVENT
DTSTART;TZID=Europe/London:20220724T131500
DTEND;TZID=Europe/London:20220724T141500
DTSTAMP:20260425T222047
CREATED:20201214T122554Z
LAST-MODIFIED:20201214T122924Z
UID:15882-1658668500-1658672100@tangsoudao.com
SUMMARY:Hornchurch RM11 Sundays
DESCRIPTION:Harrow Lodge Sports centre\, Hornchurch\, RM11 1JUSundays 1.15pm-2.15pmMixed ages and mixed abilities
URL:https://tangsoudao.com/event/hornchurch-rm11-sundays-2022-07-24/
LOCATION:Harrow Lodge Sportscentre\, RM11\, Harrow Lodge Park\, Hornchurch\, Essex\, RM11 1JU\, United Kingdom
ORGANIZER;CN="Grandmaster MK Loke":MAILTO:tangsoudao@aol.com
END:VEVENT
BEGIN:VEVENT
DTSTART;TZID=UTC:20220724T113000
DTEND;TZID=UTC:20220724T123000
DTSTAMP:20260425T222047
CREATED:20200808T133910Z
LAST-MODIFIED:20201214T110750Z
UID:12801-1658662200-1658665800@tangsoudao.com
SUMMARY:Zoom Class Sundays
DESCRIPTION:Email tangsoudao@aol.com for joining and payment details
URL:https://tangsoudao.com/event/zoom-class-sundays-2022-07-24/
LOCATION:Essex
ORGANIZER;CN="Master Siew Ying Loke":MAILTO:Siewloke@hotmail.com
END:VEVENT
BEGIN:VEVENT
DTSTART;TZID=UTC:20220724T110000
DTEND;TZID=UTC:20220724T120000
DTSTAMP:20260425T222047
CREATED:20201213T204517Z
LAST-MODIFIED:20210702T103959Z
UID:13632-1658660400-1658664000@tangsoudao.com
SUMMARY:Chelmsford CM1 Sundays 11.30am Mixed Class
DESCRIPTION:Essex Riverside Ice and Leisure\, Victoria Road\, Chelmsford\, CM1 1FGSundays 11.30am-12.30noonMixed ages and mixed abilities
URL:https://tangsoudao.com/event/chelmsford-cm1-sundays-11am-mixed-class-2022-07-24/
LOCATION:Essex Riverside Ice and Leisure\, CM1\, Victoria Road\, Chelmsford\, Essex\, CM11FG\, United Kingdom
ORGANIZER;CN="Master Anna Welch":MAILTO:anna.welch@blueyonder.co.uk
END:VEVENT
BEGIN:VEVENT
DTSTART;TZID=UTC:20220724T110000
DTEND;TZID=UTC:20220724T120000
DTSTAMP:20260425T222047
CREATED:20200907T102504Z
LAST-MODIFIED:20210704T090910Z
UID:16954-1658660400-1658664000@tangsoudao.com
SUMMARY:Chelmsford Sunday Mixed Class
DESCRIPTION:Essex Riverside Ice and Leisure\, Victoria Road\, Chelmsford\, CM1 1FGSundays 11.30am-12.30pmMixed ages and mixed abilities.
URL:https://tangsoudao.com/event/chelmsford-sunday-mixed-class-2022-07-24/
LOCATION:Essex Riverside Ice and Leisure\, CM1\, Victoria Road\, Chelmsford\, Essex\, CM11FG\, United Kingdom
ORGANIZER;CN="Master Anna Welch":MAILTO:anna.welch@blueyonder.co.uk
END:VEVENT
BEGIN:VEVENT
DTSTART;TZID=UTC:20220724T100000
DTEND;TZID=UTC:20220724T110000
DTSTAMP:20260425T222047
CREATED:20200907T103334Z
LAST-MODIFIED:20201214T143801Z
UID:9180-1658656800-1658660400@tangsoudao.com
SUMMARY:Reading RG4 Sunday Classes
DESCRIPTION:Highdown Sportscentre\, Reading\, RG4 8LRSundays 10am-11amMixed Class and Mixed Abilities
URL:https://tangsoudao.com/event/reading-rg4-sunday-classes-2022-07-24/
LOCATION:Highdown Sportscentre Reading\, RG4\, Highdown sports centre\, Caversham\, Reading\, RG48LR\, United Kingdom
ORGANIZER;CN="Master Nazim Gokcezade":MAILTO:nazim.gokcezade@ntlworld.com
END:VEVENT
BEGIN:VEVENT
DTSTART;TZID=UTC:20220724T100000
DTEND;TZID=UTC:20220724T110000
DTSTAMP:20260425T222047
CREATED:20200529T150754Z
LAST-MODIFIED:20200529T150754Z
UID:19923-1658656800-1658660400@tangsoudao.com
SUMMARY:Chelmsford CM1 Sundays 10.30am Family Class.
DESCRIPTION:Essex Riverside Ice and Leisure\, Victoria Road\, Chelmsford\, CM1 1FGSundays 10.30am-11.30amMixed ages and mixed abilities
URL:https://tangsoudao.com/event/chelmsford-cm1-sundays-11-30am-2021-06-06-2022-07-24/
LOCATION:Essex Riverside Ice and Leisure\, CM1\, Victoria Road\, Chelmsford\, Essex\, CM11FG\, United Kingdom
ORGANIZER;CN="Master Anna Welch":MAILTO:anna.welch@blueyonder.co.uk
END:VEVENT
BEGIN:VEVENT
DTSTART;TZID=UTC:20220724T100000
DTEND;TZID=UTC:20220724T110000
DTSTAMP:20260425T222047
CREATED:20200529T150754Z
LAST-MODIFIED:20200529T150754Z
UID:20196-1658656800-1658660400@tangsoudao.com
SUMMARY:Chelmsford CM1 Sundays 10.30am Family Class.
DESCRIPTION:Essex Riverside Ice and Leisure\, Victoria Road\, Chelmsford\, CM1 1FGSundays 1030am-11.30amMixed ages and mixed abilities
URL:https://tangsoudao.com/event/chelmsford-cm1-sundays-11-30am-2022-07-24/
LOCATION:Essex Riverside Ice and Leisure\, CM1\, Victoria Road\, Chelmsford\, Essex\, CM11FG\, United Kingdom
ORGANIZER;CN="Master Anna Welch":MAILTO:anna.welch@blueyonder.co.uk
END:VEVENT
BEGIN:VEVENT
DTSTART;TZID=UTC:20220723T123000
DTEND;TZID=UTC:20220723T133000
DTSTAMP:20260425T222047
CREATED:20200529T133232Z
LAST-MODIFIED:20201214T113254Z
UID:9744-1658579400-1658583000@tangsoudao.com
SUMMARY:Grays RM17 Saturday Mixed Class
DESCRIPTION:Grays BTSDF HQ\, Cromwell Road\, RM17 5HFSaturdays 12.30pm-1.30pmMixed ages and abilities
URL:https://tangsoudao.com/event/grays-rm17-saturday-mixed-class-2022-07-23/
LOCATION:Normanhall\, Grays\, RM17\, Cromwell Road\, Grays\, Essex\, RM17 5HF\, United Kingdom
ORGANIZER;CN="Grandmaster MK Loke":MAILTO:tangsoudao@aol.com
END:VEVENT
BEGIN:VEVENT
DTSTART;TZID=UTC:20220723T111500
DTEND;TZID=UTC:20220723T121500
DTSTAMP:20260425T222047
CREATED:20200529T133008Z
LAST-MODIFIED:20210531T215258Z
UID:12672-1658574900-1658578500@tangsoudao.com
SUMMARY:Grays RM17 Weekend Children Classes
DESCRIPTION:Grays BTSDF HQ\, Cromwell Road\, Grays\, RM17 5HFSaturdays 11.00am-12.00pmChildren under 11 classes
URL:https://tangsoudao.com/event/grays-rm17-weekend-children-classes-2022-07-23/
LOCATION:Normanhall\, Grays\, RM17\, Cromwell Road\, Grays\, Essex\, RM17 5HF\, United Kingdom
ORGANIZER;CN="Grandmaster MK Loke":MAILTO:tangsoudao@aol.com
END:VEVENT
BEGIN:VEVENT
DTSTART;TZID=UTC:20220723T103000
DTEND;TZID=UTC:20220723T113000
DTSTAMP:20260425T222047
CREATED:20200529T135945Z
LAST-MODIFIED:20210511T084659Z
UID:8918-1658572200-1658575800@tangsoudao.com
SUMMARY:Loughton IG9 Saturday Mixed Class
DESCRIPTION:Loughton Methodist Church\, High Road\, IG10 1RBSaturdays 10.30am-11.30amMixed ages and mixed abilities
URL:https://tangsoudao.com/event/loughton-ig10-2022-07-23/
LOCATION:Loughton Methodist Church\, IG10\, High Road\, Loughton\, Loughton\, IG101RB\, United Kingdom
ORGANIZER;CN="Bizhan Pourkomailian":MAILTO:bizhan@talktalk.net
END:VEVENT
BEGIN:VEVENT
DTSTART;TZID=UTC:20220723T100000
DTEND;TZID=UTC:20220723T110000
DTSTAMP:20260425T222047
CREATED:20200529T151601Z
LAST-MODIFIED:20200529T151601Z
UID:10231-1658570400-1658574000@tangsoudao.com
SUMMARY:Rainham RM13 Saturdays
DESCRIPTION:Brenda Blakemore Community Centre\, Davies Close\, Rainham\, Essex\, RM13 9JLSaturdays 10am-11amMixed ages and mixed abilities
URL:https://tangsoudao.com/event/rainham-rm13-saturdays-2022-07-23/
LOCATION:Brenda Blakemore Community Centre\, RM13\, Davies Close\, Rainham\, Essex\, RM13 9JL\, United Kingdom
ORGANIZER;CN="Master David Hopkins":MAILTO:david55hopkins@btinternet.com
END:VEVENT
BEGIN:VEVENT
DTSTART;TZID=Europe/London:20220723T090000
DTEND;TZID=Europe/London:20220723T120000
DTSTAMP:20260425T222047
CREATED:20201214T124303Z
LAST-MODIFIED:20201214T124303Z
UID:16087-1658566800-1658577600@tangsoudao.com
SUMMARY:Grafham PE28 Saturdays- 3 classes
DESCRIPTION:Grafham Village Hall\, Brampton Road\, PE28 0URSaturday- three separate sessions\, 9am-10am\, 10am-11am and 11am-12noon. Mixed ages and mixed abilities
URL:https://tangsoudao.com/event/grafham-pe28-saturdays-3-classes-2022-07-23/
LOCATION:Grafham Village Hall\, PE28\, Grafham Village Hall\, Brampton Road\, Grafham\, PE28 0BG\, United Kingdom
ORGANIZER;CN="Master Steven Treadaway":MAILTO:steven.treadaway@talktalk.net
END:VEVENT
BEGIN:VEVENT
DTSTART;TZID=UTC:20220722T190000
DTEND;TZID=UTC:20220722T200000
DTSTAMP:20260425T222047
CREATED:20200529T132618Z
LAST-MODIFIED:20201214T122444Z
UID:8678-1658516400-1658520000@tangsoudao.com
SUMMARY:Grays RM17  Weekday mixed classes
DESCRIPTION:Grays BTSDF HQ\, Cromwell Road\, Grays\, RM17 5HFMon to Fri 7.15pm-8.15pmMixed ages and mixed abilities
URL:https://tangsoudao.com/event/grays-rm17-weekday-mixed-classes-2022-07-22/
LOCATION:Normanhall\, Grays\, RM17\, Cromwell Road\, Grays\, Essex\, RM17 5HF\, United Kingdom
ORGANIZER;CN="Grandmaster MK Loke":MAILTO:tangsoudao@aol.com
END:VEVENT
BEGIN:VEVENT
DTSTART;TZID=UTC:20220722T180000
DTEND;TZID=UTC:20220722T190000
DTSTAMP:20260425T222047
CREATED:20200530T171755Z
LAST-MODIFIED:20200530T171755Z
UID:12269-1658512800-1658516400@tangsoudao.com
SUMMARY:Reading RG4 Weekday Classes
DESCRIPTION:Highdown Sports Centre\, Surley Row\, Caversham\, RG48LRWeds and Fri 6.00pm- 7.00pmMixed ages and mixed abilities
URL:https://tangsoudao.com/event/reading-rg4-3-2022-07-22/
LOCATION:Highdown Sportscentre Reading\, RG4\, Highdown sports centre\, Caversham\, Reading\, RG48LR\, United Kingdom
ORGANIZER;CN="Master Nazim Gokcezade":MAILTO:nazim.gokcezade@ntlworld.com
END:VEVENT
BEGIN:VEVENT
DTSTART;TZID=UTC:20220722T180000
DTEND;TZID=UTC:20220722T190000
DTSTAMP:20260425T222047
CREATED:20200529T132354Z
LAST-MODIFIED:20201214T112241Z
UID:11511-1658512800-1658516400@tangsoudao.com
SUMMARY:Grays RM17 Weekday Children Classes
DESCRIPTION:Grays BTSDF HQ\, Cromwell Road\, Grays\, RM17 5HFMon to Fridays 6pm-7pmChildren under 11 only classes
URL:https://tangsoudao.com/event/grays-rm17-2022-07-22/
LOCATION:Normanhall\, Grays\, RM17\, Cromwell Road\, Grays\, Essex\, RM17 5HF\, United Kingdom
ORGANIZER;CN="Grandmaster MK Loke":MAILTO:tangsoudao@aol.com
END:VEVENT
BEGIN:VEVENT
DTSTART;TZID=UTC:20220721T190000
DTEND;TZID=UTC:20220721T200000
DTSTAMP:20260425T222047
CREATED:20200529T152328Z
LAST-MODIFIED:20200529T152328Z
UID:13942-1658430000-1658433600@tangsoudao.com
SUMMARY:Canary Wharf E14 Weekdays
DESCRIPTION:Canary Wharf College\, 197 Eastferry Road\, E14 3BAMon and Thurs 7pm-8pmMixed ages and mixed abilities
URL:https://tangsoudao.com/event/canary-wharf-e14-weekdays-2022-07-21/
LOCATION:Canary Wharf College\, Eastferry Road\, E14\, 197 Eastferry Road\, Canary Wharf\, East London\, E143BA\, United Kingdom
ORGANIZER;CN="Master Siew Ying Loke":MAILTO:Siewloke@hotmail.com
END:VEVENT
END:VCALENDAR