BEGIN:VCALENDAR
VERSION:2.0
PRODID:-//Tang Sou Dao - ECPv6.15.13//NONSGML v1.0//EN
CALSCALE:GREGORIAN
METHOD:PUBLISH
X-WR-CALNAME:Tang Sou Dao
X-ORIGINAL-URL:https://tangsoudao.com
X-WR-CALDESC:Events for Tang Sou Dao
REFRESH-INTERVAL;VALUE=DURATION:PT1H
X-Robots-Tag:noindex
X-PUBLISHED-TTL:PT1H
BEGIN:VTIMEZONE
TZID:UTC
BEGIN:STANDARD
TZOFFSETFROM:+0000
TZOFFSETTO:+0000
TZNAME:UTC
DTSTART:20210101T000000
END:STANDARD
END:VTIMEZONE
BEGIN:VTIMEZONE
TZID:Europe/London
BEGIN:DAYLIGHT
TZOFFSETFROM:+0000
TZOFFSETTO:+0100
TZNAME:BST
DTSTART:20210328T010000
END:DAYLIGHT
BEGIN:STANDARD
TZOFFSETFROM:+0100
TZOFFSETTO:+0000
TZNAME:GMT
DTSTART:20211031T010000
END:STANDARD
BEGIN:DAYLIGHT
TZOFFSETFROM:+0000
TZOFFSETTO:+0100
TZNAME:BST
DTSTART:20220327T010000
END:DAYLIGHT
BEGIN:STANDARD
TZOFFSETFROM:+0100
TZOFFSETTO:+0000
TZNAME:GMT
DTSTART:20221030T010000
END:STANDARD
BEGIN:DAYLIGHT
TZOFFSETFROM:+0000
TZOFFSETTO:+0100
TZNAME:BST
DTSTART:20230326T010000
END:DAYLIGHT
BEGIN:STANDARD
TZOFFSETFROM:+0100
TZOFFSETTO:+0000
TZNAME:GMT
DTSTART:20231029T010000
END:STANDARD
END:VTIMEZONE
BEGIN:VEVENT
DTSTART;TZID=UTC:20220709T123000
DTEND;TZID=UTC:20220709T133000
DTSTAMP:20260425T112631
CREATED:20200529T133232Z
LAST-MODIFIED:20201214T113253Z
UID:9742-1657369800-1657373400@tangsoudao.com
SUMMARY:Grays RM17 Saturday Mixed Class
DESCRIPTION:Grays BTSDF HQ\, Cromwell Road\, RM17 5HFSaturdays 12.30pm-1.30pmMixed ages and abilities
URL:https://tangsoudao.com/event/grays-rm17-saturday-mixed-class-2022-07-09/
LOCATION:Normanhall\, Grays\, RM17\, Cromwell Road\, Grays\, Essex\, RM17 5HF\, United Kingdom
ORGANIZER;CN="Grandmaster MK Loke":MAILTO:tangsoudao@aol.com
END:VEVENT
BEGIN:VEVENT
DTSTART;TZID=UTC:20220709T111500
DTEND;TZID=UTC:20220709T121500
DTSTAMP:20260425T112631
CREATED:20200529T133008Z
LAST-MODIFIED:20210531T215256Z
UID:12670-1657365300-1657368900@tangsoudao.com
SUMMARY:Grays RM17 Weekend Children Classes
DESCRIPTION:Grays BTSDF HQ\, Cromwell Road\, Grays\, RM17 5HFSaturdays 11.00am-12.00pmChildren under 11 classes
URL:https://tangsoudao.com/event/grays-rm17-weekend-children-classes-2022-07-09/
LOCATION:Normanhall\, Grays\, RM17\, Cromwell Road\, Grays\, Essex\, RM17 5HF\, United Kingdom
ORGANIZER;CN="Grandmaster MK Loke":MAILTO:tangsoudao@aol.com
END:VEVENT
BEGIN:VEVENT
DTSTART;TZID=UTC:20220709T103000
DTEND;TZID=UTC:20220709T113000
DTSTAMP:20260425T112631
CREATED:20200529T135945Z
LAST-MODIFIED:20210511T084657Z
UID:8916-1657362600-1657366200@tangsoudao.com
SUMMARY:Loughton IG9 Saturday Mixed Class
DESCRIPTION:Loughton Methodist Church\, High Road\, IG10 1RBSaturdays 10.30am-11.30amMixed ages and mixed abilities
URL:https://tangsoudao.com/event/loughton-ig10-2022-07-09/
LOCATION:Loughton Methodist Church\, IG10\, High Road\, Loughton\, Loughton\, IG101RB\, United Kingdom
ORGANIZER;CN="Bizhan Pourkomailian":MAILTO:bizhan@talktalk.net
END:VEVENT
BEGIN:VEVENT
DTSTART;TZID=UTC:20220709T100000
DTEND;TZID=UTC:20220709T110000
DTSTAMP:20260425T112631
CREATED:20200529T151601Z
LAST-MODIFIED:20200529T151601Z
UID:10229-1657360800-1657364400@tangsoudao.com
SUMMARY:Rainham RM13 Saturdays
DESCRIPTION:Brenda Blakemore Community Centre\, Davies Close\, Rainham\, Essex\, RM13 9JLSaturdays 10am-11amMixed ages and mixed abilities
URL:https://tangsoudao.com/event/rainham-rm13-saturdays-2022-07-09/
LOCATION:Brenda Blakemore Community Centre\, RM13\, Davies Close\, Rainham\, Essex\, RM13 9JL\, United Kingdom
ORGANIZER;CN="Master David Hopkins":MAILTO:david55hopkins@btinternet.com
END:VEVENT
BEGIN:VEVENT
DTSTART;TZID=Europe/London:20220709T090000
DTEND;TZID=Europe/London:20220709T120000
DTSTAMP:20260425T112631
CREATED:20201214T124303Z
LAST-MODIFIED:20201214T124303Z
UID:16085-1657357200-1657368000@tangsoudao.com
SUMMARY:Grafham PE28 Saturdays- 3 classes
DESCRIPTION:Grafham Village Hall\, Brampton Road\, PE28 0URSaturday- three separate sessions\, 9am-10am\, 10am-11am and 11am-12noon. Mixed ages and mixed abilities
URL:https://tangsoudao.com/event/grafham-pe28-saturdays-3-classes-2022-07-09/
LOCATION:Grafham Village Hall\, PE28\, Grafham Village Hall\, Brampton Road\, Grafham\, PE28 0BG\, United Kingdom
ORGANIZER;CN="Master Steven Treadaway":MAILTO:steven.treadaway@talktalk.net
END:VEVENT
BEGIN:VEVENT
DTSTART;TZID=UTC:20220708T190000
DTEND;TZID=UTC:20220708T200000
DTSTAMP:20260425T112631
CREATED:20200529T132618Z
LAST-MODIFIED:20201214T122437Z
UID:8668-1657306800-1657310400@tangsoudao.com
SUMMARY:Grays RM17  Weekday mixed classes
DESCRIPTION:Grays BTSDF HQ\, Cromwell Road\, Grays\, RM17 5HFMon to Fri 7.15pm-8.15pmMixed ages and mixed abilities
URL:https://tangsoudao.com/event/grays-rm17-weekday-mixed-classes-2022-07-08/
LOCATION:Normanhall\, Grays\, RM17\, Cromwell Road\, Grays\, Essex\, RM17 5HF\, United Kingdom
ORGANIZER;CN="Grandmaster MK Loke":MAILTO:tangsoudao@aol.com
END:VEVENT
BEGIN:VEVENT
DTSTART;TZID=UTC:20220708T180000
DTEND;TZID=UTC:20220708T190000
DTSTAMP:20260425T112631
CREATED:20200530T171755Z
LAST-MODIFIED:20200530T171755Z
UID:12244-1657303200-1657306800@tangsoudao.com
SUMMARY:Reading RG4 Weekday Classes
DESCRIPTION:Highdown Sports Centre\, Surley Row\, Caversham\, RG48LRWeds and Fri 6.00pm- 7.00pmMixed ages and mixed abilities
URL:https://tangsoudao.com/event/reading-rg4-3-2022-07-08/
LOCATION:Highdown Sportscentre Reading\, RG4\, Highdown sports centre\, Caversham\, Reading\, RG48LR\, United Kingdom
ORGANIZER;CN="Master Nazim Gokcezade":MAILTO:nazim.gokcezade@ntlworld.com
END:VEVENT
BEGIN:VEVENT
DTSTART;TZID=UTC:20220708T180000
DTEND;TZID=UTC:20220708T190000
DTSTAMP:20260425T112631
CREATED:20200529T132354Z
LAST-MODIFIED:20201214T112238Z
UID:11495-1657303200-1657306800@tangsoudao.com
SUMMARY:Grays RM17 Weekday Children Classes
DESCRIPTION:Grays BTSDF HQ\, Cromwell Road\, Grays\, RM17 5HFMon to Fridays 6pm-7pmChildren under 11 only classes
URL:https://tangsoudao.com/event/grays-rm17-2022-07-08/
LOCATION:Normanhall\, Grays\, RM17\, Cromwell Road\, Grays\, Essex\, RM17 5HF\, United Kingdom
ORGANIZER;CN="Grandmaster MK Loke":MAILTO:tangsoudao@aol.com
END:VEVENT
BEGIN:VEVENT
DTSTART;TZID=UTC:20220707T190000
DTEND;TZID=UTC:20220707T200000
DTSTAMP:20260425T112631
CREATED:20200529T152328Z
LAST-MODIFIED:20200529T152328Z
UID:13938-1657220400-1657224000@tangsoudao.com
SUMMARY:Canary Wharf E14 Weekdays
DESCRIPTION:Canary Wharf College\, 197 Eastferry Road\, E14 3BAMon and Thurs 7pm-8pmMixed ages and mixed abilities
URL:https://tangsoudao.com/event/canary-wharf-e14-weekdays-2022-07-07/
LOCATION:Canary Wharf College\, Eastferry Road\, E14\, 197 Eastferry Road\, Canary Wharf\, East London\, E143BA\, United Kingdom
ORGANIZER;CN="Master Siew Ying Loke":MAILTO:Siewloke@hotmail.com
END:VEVENT
BEGIN:VEVENT
DTSTART;TZID=UTC:20220707T190000
DTEND;TZID=UTC:20220707T200000
DTSTAMP:20260425T112631
CREATED:20200529T135800Z
LAST-MODIFIED:20200529T135800Z
UID:23957-1657220400-1657224000@tangsoudao.com
SUMMARY:Rochford SS5 Thursdays
DESCRIPTION:Clements Hall Leisure Centre\, Hawkwell\, Rochford\, SS5 4LNThursdays 7pm-8pmMixed ages and mixed abilities
URL:https://tangsoudao.com/event/rochford-ss5-2022-07-07/
LOCATION:Clements Hall Leisure Centre\, SS5\, Hawkwell\, Hockley\, Essex\, SS5 4LN\, United Kingdom
ORGANIZER;CN="Grandmaster MK Loke":MAILTO:tangsoudao@aol.com
END:VEVENT
BEGIN:VEVENT
DTSTART;TZID=UTC:20220707T190000
DTEND;TZID=UTC:20220707T200000
DTSTAMP:20260425T112631
CREATED:20200529T132618Z
LAST-MODIFIED:20201214T122436Z
UID:8667-1657220400-1657224000@tangsoudao.com
SUMMARY:Grays RM17  Weekday mixed classes
DESCRIPTION:Grays BTSDF HQ\, Cromwell Road\, Grays\, RM17 5HFMon to Fri 7.15pm-8.15pmMixed ages and mixed abilities
URL:https://tangsoudao.com/event/grays-rm17-weekday-mixed-classes-2022-07-07/
LOCATION:Normanhall\, Grays\, RM17\, Cromwell Road\, Grays\, Essex\, RM17 5HF\, United Kingdom
ORGANIZER;CN="Grandmaster MK Loke":MAILTO:tangsoudao@aol.com
END:VEVENT
BEGIN:VEVENT
DTSTART;TZID=UTC:20220707T180000
DTEND;TZID=UTC:20220707T190000
DTSTAMP:20260425T112631
CREATED:20200529T132354Z
LAST-MODIFIED:20201214T112238Z
UID:11494-1657216800-1657220400@tangsoudao.com
SUMMARY:Grays RM17 Weekday Children Classes
DESCRIPTION:Grays BTSDF HQ\, Cromwell Road\, Grays\, RM17 5HFMon to Fridays 6pm-7pmChildren under 11 only classes
URL:https://tangsoudao.com/event/grays-rm17-2022-07-07/
LOCATION:Normanhall\, Grays\, RM17\, Cromwell Road\, Grays\, Essex\, RM17 5HF\, United Kingdom
ORGANIZER;CN="Grandmaster MK Loke":MAILTO:tangsoudao@aol.com
END:VEVENT
BEGIN:VEVENT
DTSTART;TZID=Europe/London:20220707T080000
DTEND;TZID=Europe/London:20220707T083000
DTSTAMP:20260425T112631
CREATED:20201214T130601Z
LAST-MODIFIED:20201214T131231Z
UID:16492-1657180800-1657182600@tangsoudao.com
SUMMARY:Rainham RM13 Thursdays
DESCRIPTION:Brenda Blakemore Community Centre\, RM13 9JLThursdays 6.30pm-7.30pmMixed ages and Mixed abilities
URL:https://tangsoudao.com/event/rainham-rm13-thursdays-2-2022-07-07/
LOCATION:Brenda Blakemore Community Centre\, RM13\, Davies Close\, Rainham\, Essex\, RM13 9JL\, United Kingdom
ORGANIZER;CN="Master David Hopkins":MAILTO:david55hopkins@btinternet.com
END:VEVENT
BEGIN:VEVENT
DTSTART;TZID=UTC:20220706T200000
DTEND;TZID=UTC:20220706T210000
DTSTAMP:20260425T112631
CREATED:20201213T204712Z
LAST-MODIFIED:20210602T095424Z
UID:13679-1657137600-1657141200@tangsoudao.com
SUMMARY:Chelmsford CM1 Wednesdays Mixed Class
DESCRIPTION:Essex Riverside Ice and Leisure\, Victoria Road\, Chelmsford\, CM1 1FGWednesdays 8pm-9pmMixed ages and mixed abilities
URL:https://tangsoudao.com/event/chelmsford-cm1-wednesdays-mixed-class-2022-07-06/
LOCATION:Essex Riverside Ice and Leisure\, CM1\, Victoria Road\, Chelmsford\, Essex\, CM11FG\, United Kingdom
ORGANIZER;CN="Master Anna Welch":MAILTO:anna.welch@blueyonder.co.uk
END:VEVENT
BEGIN:VEVENT
DTSTART;TZID=UTC:20220706T190000
DTEND;TZID=UTC:20220706T200000
DTSTAMP:20260425T112631
CREATED:20200529T132618Z
LAST-MODIFIED:20201214T122436Z
UID:8666-1657134000-1657137600@tangsoudao.com
SUMMARY:Grays RM17  Weekday mixed classes
DESCRIPTION:Grays BTSDF HQ\, Cromwell Road\, Grays\, RM17 5HFMon to Fri 7.15pm-8.15pmMixed ages and mixed abilities
URL:https://tangsoudao.com/event/grays-rm17-weekday-mixed-classes-2022-07-06/
LOCATION:Normanhall\, Grays\, RM17\, Cromwell Road\, Grays\, Essex\, RM17 5HF\, United Kingdom
ORGANIZER;CN="Grandmaster MK Loke":MAILTO:tangsoudao@aol.com
END:VEVENT
BEGIN:VEVENT
DTSTART;TZID=UTC:20220706T180000
DTEND;TZID=UTC:20220706T193000
DTSTAMP:20260425T112631
CREATED:20200514T133624Z
LAST-MODIFIED:20210602T101333Z
UID:18982-1657130400-1657135800@tangsoudao.com
SUMMARY:Reading RG4 Red Belts Up
DESCRIPTION:Highdown Sports Centre\, Surley Row\, Caversham\, RG48LRFri 7.30pm- 9pmRed Belts and Above \n\n\n\n\n\n\n\n\n\n\n\n\n\n\n\n\n\n\n\nMixed Ages and Mixed Abilities
URL:https://tangsoudao.com/event/reading-rg4-2022-07-06/
LOCATION:Highdown Sportscentre Reading\, RG4\, Highdown sports centre\, Caversham\, Reading\, RG48LR\, United Kingdom
END:VEVENT
BEGIN:VEVENT
DTSTART;TZID=UTC:20220706T180000
DTEND;TZID=UTC:20220706T190000
DTSTAMP:20260425T112631
CREATED:20200907T112133Z
LAST-MODIFIED:20200907T112133Z
UID:16388-1657130400-1657134000@tangsoudao.com
SUMMARY:Rainham RM13 Wednesdays
DESCRIPTION:Brenda Blakemore Community Centre\, RM13 9JLWednesdays 6pm-7pm Mixed ages and Mixed abilities
URL:https://tangsoudao.com/event/rainham-rm13-wednesdays-2022-07-06/
LOCATION:Brenda Blakemore Community Centre\, RM13\, Davies Close\, Rainham\, Essex\, RM13 9JL\, United Kingdom
END:VEVENT
BEGIN:VEVENT
DTSTART;TZID=UTC:20220706T180000
DTEND;TZID=UTC:20220706T190000
DTSTAMP:20260425T112631
CREATED:20200530T171755Z
LAST-MODIFIED:20200530T171755Z
UID:12243-1657130400-1657134000@tangsoudao.com
SUMMARY:Reading RG4 Weekday Classes
DESCRIPTION:Highdown Sports Centre\, Surley Row\, Caversham\, RG48LRWeds and Fri 6.00pm- 7.00pmMixed ages and mixed abilities
URL:https://tangsoudao.com/event/reading-rg4-3-2022-07-06/
LOCATION:Highdown Sportscentre Reading\, RG4\, Highdown sports centre\, Caversham\, Reading\, RG48LR\, United Kingdom
ORGANIZER;CN="Master Nazim Gokcezade":MAILTO:nazim.gokcezade@ntlworld.com
END:VEVENT
BEGIN:VEVENT
DTSTART;TZID=UTC:20220706T180000
DTEND;TZID=UTC:20220706T190000
DTSTAMP:20260425T112631
CREATED:20200529T132354Z
LAST-MODIFIED:20200529T132354Z
UID:14430-1657130400-1657134000@tangsoudao.com
SUMMARY:Grays RM17 Weekday Children Classes
DESCRIPTION:Grays BTSDF HQ\, Cromwell Road\, Grays\, RM17 5HFMon to Fridays 6pm-7pmChildren under 11 only classes
URL:https://tangsoudao.com/event/grays-rm17-2022-07-06/
LOCATION:Normanhall\, Grays\, RM17\, Cromwell Road\, Grays\, Essex\, RM17 5HF\, United Kingdom
ORGANIZER;CN="Grandmaster MK Loke":MAILTO:tangsoudao@aol.com
END:VEVENT
BEGIN:VEVENT
DTSTART;TZID=Europe/London:20220705T190000
DTEND;TZID=Europe/London:20220705T200000
DTSTAMP:20260425T112631
CREATED:20210511T084537Z
LAST-MODIFIED:20210511T084537Z
UID:18576-1657047600-1657051200@tangsoudao.com
SUMMARY:Loughton IG9 Tuesday Mixed Class
DESCRIPTION:Loughton Methodist Church\, High Road\, IG10 1RBSaturdays 10.30am-11.30amMixed ages and mixed abilities
URL:https://tangsoudao.com/event/loughton-ig9-tuesday-mixed-class-2022-07-05/
LOCATION:Loughton Methodist Church\, IG10\, High Road\, Loughton\, Loughton\, IG101RB\, United Kingdom
ORGANIZER;CN="Bizhan Pourkomailian":MAILTO:bizhan@talktalk.net
END:VEVENT
BEGIN:VEVENT
DTSTART;TZID=UTC:20220705T190000
DTEND;TZID=UTC:20220705T200000
DTSTAMP:20260425T112631
CREATED:20200529T132618Z
LAST-MODIFIED:20201214T122435Z
UID:8665-1657047600-1657051200@tangsoudao.com
SUMMARY:Grays RM17  Weekday mixed classes
DESCRIPTION:Grays BTSDF HQ\, Cromwell Road\, Grays\, RM17 5HFMon to Fri 7.15pm-8.15pmMixed ages and mixed abilities
URL:https://tangsoudao.com/event/grays-rm17-weekday-mixed-classes-2022-07-05/
LOCATION:Normanhall\, Grays\, RM17\, Cromwell Road\, Grays\, Essex\, RM17 5HF\, United Kingdom
ORGANIZER;CN="Grandmaster MK Loke":MAILTO:tangsoudao@aol.com
END:VEVENT
BEGIN:VEVENT
DTSTART;TZID=UTC:20220705T181500
DTEND;TZID=UTC:20220705T191500
DTSTAMP:20260425T112631
CREATED:20200529T131254Z
LAST-MODIFIED:20201214T144623Z
UID:9304-1657044900-1657048500@tangsoudao.com
SUMMARY:Tidmarsh RG8 Tuesdays
DESCRIPTION:Tidmarsh Village Hall\, Tidmarsh\, RG8 8ESTuesdays 6.15pm-7.15pmMixed ages and mixed abilities
URL:https://tangsoudao.com/event/tidmarsh-rg8-2022-07-05/
LOCATION:Tidmarsh Village Hall\, Tidmarsh\, RG8\, Tidmarsh Village Hall\, Tidmarsh\, Reading\, RG8 8ES\, United Kingdom
ORGANIZER;CN="Master Nazim Gokcezade":MAILTO:nazim.gokcezade@ntlworld.com
END:VEVENT
BEGIN:VEVENT
DTSTART;TZID=UTC:20220705T180000
DTEND;TZID=UTC:20220705T190000
DTSTAMP:20260425T112631
CREATED:20200529T132354Z
LAST-MODIFIED:20201214T112237Z
UID:11493-1657044000-1657047600@tangsoudao.com
SUMMARY:Grays RM17 Weekday Children Classes
DESCRIPTION:Grays BTSDF HQ\, Cromwell Road\, Grays\, RM17 5HFMon to Fridays 6pm-7pmChildren under 11 only classes
URL:https://tangsoudao.com/event/grays-rm17-2022-07-05/
LOCATION:Normanhall\, Grays\, RM17\, Cromwell Road\, Grays\, Essex\, RM17 5HF\, United Kingdom
ORGANIZER;CN="Grandmaster MK Loke":MAILTO:tangsoudao@aol.com
END:VEVENT
BEGIN:VEVENT
DTSTART;TZID=UTC:20220705T170000
DTEND;TZID=UTC:20220705T180000
DTSTAMP:20260425T112631
CREATED:20200529T130846Z
LAST-MODIFIED:20210511T084936Z
UID:11538-1657040400-1657044000@tangsoudao.com
SUMMARY:Reading RG7 Tuesdays
DESCRIPTION:Bucklebury Village\, Victory Room\, Bucklebury\, RG7 6PSTuesdays 5pm-6pmMixed ages and mixed abilities
URL:https://tangsoudao.com/event/reading-rg7-2022-07-05/
LOCATION:Victory Room\, Bucklebury Village\, Reading\, RG7\, Bucklebury Village\, Bucklebury\, Reading\, RG76PS\, United Kingdom
ORGANIZER;CN="Master Nazim Gokcezade":MAILTO:nazim.gokcezade@ntlworld.com
END:VEVENT
BEGIN:VEVENT
DTSTART;TZID=UTC:20220704T200000
DTEND;TZID=UTC:20220704T210000
DTSTAMP:20260425T112631
CREATED:20200529T151151Z
LAST-MODIFIED:20200907T124457Z
UID:11181-1656964800-1656968400@tangsoudao.com
SUMMARY:Basildon SS14 CLASS CURRENTLY SUSPENDED
DESCRIPTION:Kreate Dance Centre\, 30 Bowlers Croft\, Basildon\, SS14 3EEMondays 8pm-9pmMixed ages and mixed abilities
URL:https://tangsoudao.com/event/basildon-ss14-2022-07-04/
LOCATION:Kreate Dance Centre\, SS14\, 30 Bowlers Croft\, Basildon\, Essex\, SS14 3EE\, United Kingdom
END:VEVENT
BEGIN:VEVENT
DTSTART;TZID=UTC:20220704T190000
DTEND;TZID=UTC:20220704T200000
DTSTAMP:20260425T112631
CREATED:20200529T152328Z
LAST-MODIFIED:20200529T152328Z
UID:13937-1656961200-1656964800@tangsoudao.com
SUMMARY:Canary Wharf E14 Weekdays
DESCRIPTION:Canary Wharf College\, 197 Eastferry Road\, E14 3BAMon and Thurs 7pm-8pmMixed ages and mixed abilities
URL:https://tangsoudao.com/event/canary-wharf-e14-weekdays-2022-07-04/
LOCATION:Canary Wharf College\, Eastferry Road\, E14\, 197 Eastferry Road\, Canary Wharf\, East London\, E143BA\, United Kingdom
ORGANIZER;CN="Master Siew Ying Loke":MAILTO:Siewloke@hotmail.com
END:VEVENT
BEGIN:VEVENT
DTSTART;TZID=UTC:20220704T190000
DTEND;TZID=UTC:20220704T200000
DTSTAMP:20260425T112631
CREATED:20200529T132618Z
LAST-MODIFIED:20201214T122435Z
UID:8664-1656961200-1656964800@tangsoudao.com
SUMMARY:Grays RM17  Weekday mixed classes
DESCRIPTION:Grays BTSDF HQ\, Cromwell Road\, Grays\, RM17 5HFMon to Fri 7.15pm-8.15pmMixed ages and mixed abilities
URL:https://tangsoudao.com/event/grays-rm17-weekday-mixed-classes-2022-07-04/
LOCATION:Normanhall\, Grays\, RM17\, Cromwell Road\, Grays\, Essex\, RM17 5HF\, United Kingdom
ORGANIZER;CN="Grandmaster MK Loke":MAILTO:tangsoudao@aol.com
END:VEVENT
BEGIN:VEVENT
DTSTART;TZID=UTC:20220704T180000
DTEND;TZID=UTC:20220704T190000
DTSTAMP:20260425T112631
CREATED:20200529T132354Z
LAST-MODIFIED:20200529T132354Z
UID:14429-1656957600-1656961200@tangsoudao.com
SUMMARY:Grays RM17 Weekday Children Classes
DESCRIPTION:Grays BTSDF HQ\, Cromwell Road\, Grays\, RM17 5HFMon to Fridays 6pm-7pmChildren under 11 only classes
URL:https://tangsoudao.com/event/grays-rm17-2022-07-04/
LOCATION:Normanhall\, Grays\, RM17\, Cromwell Road\, Grays\, Essex\, RM17 5HF\, United Kingdom
ORGANIZER;CN="Grandmaster MK Loke":MAILTO:tangsoudao@aol.com
END:VEVENT
BEGIN:VEVENT
DTSTART;TZID=Europe/London:20220703T131500
DTEND;TZID=Europe/London:20220703T141500
DTSTAMP:20260425T112631
CREATED:20201214T122554Z
LAST-MODIFIED:20201214T122920Z
UID:15879-1656854100-1656857700@tangsoudao.com
SUMMARY:Hornchurch RM11 Sundays
DESCRIPTION:Harrow Lodge Sports centre\, Hornchurch\, RM11 1JUSundays 1.15pm-2.15pmMixed ages and mixed abilities
URL:https://tangsoudao.com/event/hornchurch-rm11-sundays-2022-07-03/
LOCATION:Harrow Lodge Sportscentre\, RM11\, Harrow Lodge Park\, Hornchurch\, Essex\, RM11 1JU\, United Kingdom
ORGANIZER;CN="Grandmaster MK Loke":MAILTO:tangsoudao@aol.com
END:VEVENT
BEGIN:VEVENT
DTSTART;TZID=UTC:20220703T113000
DTEND;TZID=UTC:20220703T123000
DTSTAMP:20260425T112631
CREATED:20200808T133910Z
LAST-MODIFIED:20201214T110745Z
UID:12798-1656847800-1656851400@tangsoudao.com
SUMMARY:Zoom Class Sundays
DESCRIPTION:Email tangsoudao@aol.com for joining and payment details
URL:https://tangsoudao.com/event/zoom-class-sundays-2022-07-03/
LOCATION:Grafham
ORGANIZER;CN="Master Siew Ying Loke":MAILTO:Siewloke@hotmail.com
END:VEVENT
END:VCALENDAR