BEGIN:VCALENDAR
VERSION:2.0
PRODID:-//Tang Sou Dao - ECPv6.15.13//NONSGML v1.0//EN
CALSCALE:GREGORIAN
METHOD:PUBLISH
X-WR-CALNAME:Tang Sou Dao
X-ORIGINAL-URL:https://tangsoudao.com
X-WR-CALDESC:Events for Tang Sou Dao
REFRESH-INTERVAL;VALUE=DURATION:PT1H
X-Robots-Tag:noindex
X-PUBLISHED-TTL:PT1H
BEGIN:VTIMEZONE
TZID:UTC
BEGIN:STANDARD
TZOFFSETFROM:+0000
TZOFFSETTO:+0000
TZNAME:UTC
DTSTART:20210101T000000
END:STANDARD
END:VTIMEZONE
BEGIN:VTIMEZONE
TZID:Europe/London
BEGIN:DAYLIGHT
TZOFFSETFROM:+0000
TZOFFSETTO:+0100
TZNAME:BST
DTSTART:20210328T010000
END:DAYLIGHT
BEGIN:STANDARD
TZOFFSETFROM:+0100
TZOFFSETTO:+0000
TZNAME:GMT
DTSTART:20211031T010000
END:STANDARD
BEGIN:DAYLIGHT
TZOFFSETFROM:+0000
TZOFFSETTO:+0100
TZNAME:BST
DTSTART:20220327T010000
END:DAYLIGHT
BEGIN:STANDARD
TZOFFSETFROM:+0100
TZOFFSETTO:+0000
TZNAME:GMT
DTSTART:20221030T010000
END:STANDARD
BEGIN:DAYLIGHT
TZOFFSETFROM:+0000
TZOFFSETTO:+0100
TZNAME:BST
DTSTART:20230326T010000
END:DAYLIGHT
BEGIN:STANDARD
TZOFFSETFROM:+0100
TZOFFSETTO:+0000
TZNAME:GMT
DTSTART:20231029T010000
END:STANDARD
END:VTIMEZONE
BEGIN:VEVENT
DTSTART;TZID=UTC:20220621T181500
DTEND;TZID=UTC:20220621T191500
DTSTAMP:20260425T222103
CREATED:20200529T131254Z
LAST-MODIFIED:20201214T144622Z
UID:9302-1655835300-1655838900@tangsoudao.com
SUMMARY:Tidmarsh RG8 Tuesdays
DESCRIPTION:Tidmarsh Village Hall\, Tidmarsh\, RG8 8ESTuesdays 6.15pm-7.15pmMixed ages and mixed abilities
URL:https://tangsoudao.com/event/tidmarsh-rg8-2022-06-21/
LOCATION:Tidmarsh Village Hall\, Tidmarsh\, RG8\, Tidmarsh Village Hall\, Tidmarsh\, Reading\, RG8 8ES\, United Kingdom
ORGANIZER;CN="Master Nazim Gokcezade":MAILTO:nazim.gokcezade@ntlworld.com
END:VEVENT
BEGIN:VEVENT
DTSTART;TZID=UTC:20220621T180000
DTEND;TZID=UTC:20220621T190000
DTSTAMP:20260425T222103
CREATED:20200529T132354Z
LAST-MODIFIED:20201214T112230Z
UID:11487-1655834400-1655838000@tangsoudao.com
SUMMARY:Grays RM17 Weekday Children Classes
DESCRIPTION:Grays BTSDF HQ\, Cromwell Road\, Grays\, RM17 5HFMon to Fridays 6pm-7pmChildren under 11 only classes
URL:https://tangsoudao.com/event/grays-rm17-2022-06-21/
LOCATION:Normanhall\, Grays\, RM17\, Cromwell Road\, Grays\, Essex\, RM17 5HF\, United Kingdom
ORGANIZER;CN="Grandmaster MK Loke":MAILTO:tangsoudao@aol.com
END:VEVENT
BEGIN:VEVENT
DTSTART;TZID=UTC:20220621T170000
DTEND;TZID=UTC:20220621T180000
DTSTAMP:20260425T222103
CREATED:20200529T130846Z
LAST-MODIFIED:20210511T084935Z
UID:11536-1655830800-1655834400@tangsoudao.com
SUMMARY:Reading RG7 Tuesdays
DESCRIPTION:Bucklebury Village\, Victory Room\, Bucklebury\, RG7 6PSTuesdays 5pm-6pmMixed ages and mixed abilities
URL:https://tangsoudao.com/event/reading-rg7-2022-06-21/
LOCATION:Victory Room\, Bucklebury Village\, Reading\, RG7\, Bucklebury Village\, Bucklebury\, Reading\, RG76PS\, United Kingdom
ORGANIZER;CN="Master Nazim Gokcezade":MAILTO:nazim.gokcezade@ntlworld.com
END:VEVENT
BEGIN:VEVENT
DTSTART;TZID=UTC:20220620T200000
DTEND;TZID=UTC:20220620T210000
DTSTAMP:20260425T222103
CREATED:20200529T151151Z
LAST-MODIFIED:20200907T124457Z
UID:11179-1655755200-1655758800@tangsoudao.com
SUMMARY:Basildon SS14 CLASS CURRENTLY SUSPENDED
DESCRIPTION:Kreate Dance Centre\, 30 Bowlers Croft\, Basildon\, SS14 3EEMondays 8pm-9pmMixed ages and mixed abilities
URL:https://tangsoudao.com/event/basildon-ss14-2022-06-20/
LOCATION:Kreate Dance Centre\, SS14\, 30 Bowlers Croft\, Basildon\, Essex\, SS14 3EE\, United Kingdom
END:VEVENT
BEGIN:VEVENT
DTSTART;TZID=UTC:20220620T190000
DTEND;TZID=UTC:20220620T200000
DTSTAMP:20260425T222103
CREATED:20200529T152328Z
LAST-MODIFIED:20200529T152328Z
UID:13933-1655751600-1655755200@tangsoudao.com
SUMMARY:Canary Wharf E14 Weekdays
DESCRIPTION:Canary Wharf College\, 197 Eastferry Road\, E14 3BAMon and Thurs 7pm-8pmMixed ages and mixed abilities
URL:https://tangsoudao.com/event/canary-wharf-e14-weekdays-2022-06-20/
LOCATION:Canary Wharf College\, Eastferry Road\, E14\, 197 Eastferry Road\, Canary Wharf\, East London\, E143BA\, United Kingdom
ORGANIZER;CN="Master Siew Ying Loke":MAILTO:Siewloke@hotmail.com
END:VEVENT
BEGIN:VEVENT
DTSTART;TZID=UTC:20220620T190000
DTEND;TZID=UTC:20220620T200000
DTSTAMP:20260425T222103
CREATED:20200529T132618Z
LAST-MODIFIED:20201214T122429Z
UID:8654-1655751600-1655755200@tangsoudao.com
SUMMARY:Grays RM17  Weekday mixed classes
DESCRIPTION:Grays BTSDF HQ\, Cromwell Road\, Grays\, RM17 5HFMon to Fri 7.15pm-8.15pmMixed ages and mixed abilities
URL:https://tangsoudao.com/event/grays-rm17-weekday-mixed-classes-2022-06-20/
LOCATION:Normanhall\, Grays\, RM17\, Cromwell Road\, Grays\, Essex\, RM17 5HF\, United Kingdom
ORGANIZER;CN="Grandmaster MK Loke":MAILTO:tangsoudao@aol.com
END:VEVENT
BEGIN:VEVENT
DTSTART;TZID=UTC:20220620T180000
DTEND;TZID=UTC:20220620T190000
DTSTAMP:20260425T222103
CREATED:20200529T132354Z
LAST-MODIFIED:20200529T132354Z
UID:14425-1655748000-1655751600@tangsoudao.com
SUMMARY:Grays RM17 Weekday Children Classes
DESCRIPTION:Grays BTSDF HQ\, Cromwell Road\, Grays\, RM17 5HFMon to Fridays 6pm-7pmChildren under 11 only classes
URL:https://tangsoudao.com/event/grays-rm17-2022-06-20/
LOCATION:Normanhall\, Grays\, RM17\, Cromwell Road\, Grays\, Essex\, RM17 5HF\, United Kingdom
ORGANIZER;CN="Grandmaster MK Loke":MAILTO:tangsoudao@aol.com
END:VEVENT
BEGIN:VEVENT
DTSTART;TZID=Europe/London:20220619T131500
DTEND;TZID=Europe/London:20220619T141500
DTSTAMP:20260425T222103
CREATED:20201214T122554Z
LAST-MODIFIED:20201214T122919Z
UID:15877-1655644500-1655648100@tangsoudao.com
SUMMARY:Hornchurch RM11 Sundays
DESCRIPTION:Harrow Lodge Sports centre\, Hornchurch\, RM11 1JUSundays 1.15pm-2.15pmMixed ages and mixed abilities
URL:https://tangsoudao.com/event/hornchurch-rm11-sundays-2022-06-19/
LOCATION:Harrow Lodge Sportscentre\, RM11\, Harrow Lodge Park\, Hornchurch\, Essex\, RM11 1JU\, United Kingdom
ORGANIZER;CN="Grandmaster MK Loke":MAILTO:tangsoudao@aol.com
END:VEVENT
BEGIN:VEVENT
DTSTART;TZID=UTC:20220619T113000
DTEND;TZID=UTC:20220619T123000
DTSTAMP:20260425T222103
CREATED:20200808T133910Z
LAST-MODIFIED:20201214T110744Z
UID:12796-1655638200-1655641800@tangsoudao.com
SUMMARY:Zoom Class Sundays
DESCRIPTION:Email tangsoudao@aol.com for joining and payment details
URL:https://tangsoudao.com/event/zoom-class-sundays-2022-06-19/
LOCATION:Grafham
ORGANIZER;CN="Master Siew Ying Loke":MAILTO:Siewloke@hotmail.com
END:VEVENT
BEGIN:VEVENT
DTSTART;TZID=UTC:20220619T110000
DTEND;TZID=UTC:20220619T120000
DTSTAMP:20260425T222103
CREATED:20201213T204517Z
LAST-MODIFIED:20210702T103949Z
UID:13627-1655636400-1655640000@tangsoudao.com
SUMMARY:Chelmsford CM1 Sundays 11.30am Mixed Class
DESCRIPTION:Essex Riverside Ice and Leisure\, Victoria Road\, Chelmsford\, CM1 1FGSundays 11.30am-12.30noonMixed ages and mixed abilities
URL:https://tangsoudao.com/event/chelmsford-cm1-sundays-11am-mixed-class-2022-06-19/
LOCATION:Essex Riverside Ice and Leisure\, CM1\, Victoria Road\, Chelmsford\, Essex\, CM11FG\, United Kingdom
ORGANIZER;CN="Master Anna Welch":MAILTO:anna.welch@blueyonder.co.uk
END:VEVENT
BEGIN:VEVENT
DTSTART;TZID=UTC:20220619T110000
DTEND;TZID=UTC:20220619T120000
DTSTAMP:20260425T222103
CREATED:20200907T102504Z
LAST-MODIFIED:20210704T090908Z
UID:16949-1655636400-1655640000@tangsoudao.com
SUMMARY:Chelmsford Sunday Mixed Class
DESCRIPTION:Essex Riverside Ice and Leisure\, Victoria Road\, Chelmsford\, CM1 1FGSundays 11.30am-12.30pmMixed ages and mixed abilities.
URL:https://tangsoudao.com/event/chelmsford-sunday-mixed-class-2022-06-19/
LOCATION:Essex Riverside Ice and Leisure\, CM1\, Victoria Road\, Chelmsford\, Essex\, CM11FG\, United Kingdom
ORGANIZER;CN="Master Anna Welch":MAILTO:anna.welch@blueyonder.co.uk
END:VEVENT
BEGIN:VEVENT
DTSTART;TZID=UTC:20220619T110000
DTEND;TZID=UTC:20220619T120000
DTSTAMP:20260425T222103
CREATED:20200529T133426Z
LAST-MODIFIED:20201214T112703Z
UID:9790-1655636400-1655640000@tangsoudao.com
SUMMARY:Grays RM17 Sunday Mixed Classes
DESCRIPTION:Grays BTSDF HQ\, Cromwell Road\, Grays\, RM17 5HFSundays 11am-12noonMixed ages and mixed abilities
URL:https://tangsoudao.com/event/grays-rm17-sunday-mixed-classes-2022-06-19/
LOCATION:Normanhall\, Grays\, RM17\, Cromwell Road\, Grays\, Essex\, RM17 5HF\, United Kingdom
ORGANIZER;CN="Grandmaster MK Loke":MAILTO:tangsoudao@aol.com
END:VEVENT
BEGIN:VEVENT
DTSTART;TZID=UTC:20220619T100000
DTEND;TZID=UTC:20220619T110000
DTSTAMP:20260425T222103
CREATED:20200907T103334Z
LAST-MODIFIED:20201214T143759Z
UID:9175-1655632800-1655636400@tangsoudao.com
SUMMARY:Reading RG4 Sunday Classes
DESCRIPTION:Highdown Sportscentre\, Reading\, RG4 8LRSundays 10am-11amMixed Class and Mixed Abilities
URL:https://tangsoudao.com/event/reading-rg4-sunday-classes-2022-06-19/
LOCATION:Highdown Sportscentre Reading\, RG4\, Highdown sports centre\, Caversham\, Reading\, RG48LR\, United Kingdom
ORGANIZER;CN="Master Nazim Gokcezade":MAILTO:nazim.gokcezade@ntlworld.com
END:VEVENT
BEGIN:VEVENT
DTSTART;TZID=UTC:20220619T100000
DTEND;TZID=UTC:20220619T110000
DTSTAMP:20260425T222103
CREATED:20200529T150754Z
LAST-MODIFIED:20200529T150754Z
UID:19918-1655632800-1655636400@tangsoudao.com
SUMMARY:Chelmsford CM1 Sundays 10.30am Family Class.
DESCRIPTION:Essex Riverside Ice and Leisure\, Victoria Road\, Chelmsford\, CM1 1FGSundays 10.30am-11.30amMixed ages and mixed abilities
URL:https://tangsoudao.com/event/chelmsford-cm1-sundays-11-30am-2021-06-06-2022-06-19/
LOCATION:Essex Riverside Ice and Leisure\, CM1\, Victoria Road\, Chelmsford\, Essex\, CM11FG\, United Kingdom
ORGANIZER;CN="Master Anna Welch":MAILTO:anna.welch@blueyonder.co.uk
END:VEVENT
BEGIN:VEVENT
DTSTART;TZID=UTC:20220619T100000
DTEND;TZID=UTC:20220619T110000
DTSTAMP:20260425T222103
CREATED:20200529T150754Z
LAST-MODIFIED:20200529T150754Z
UID:20191-1655632800-1655636400@tangsoudao.com
SUMMARY:Chelmsford CM1 Sundays 10.30am Family Class.
DESCRIPTION:Essex Riverside Ice and Leisure\, Victoria Road\, Chelmsford\, CM1 1FGSundays 1030am-11.30amMixed ages and mixed abilities
URL:https://tangsoudao.com/event/chelmsford-cm1-sundays-11-30am-2022-06-19/
LOCATION:Essex Riverside Ice and Leisure\, CM1\, Victoria Road\, Chelmsford\, Essex\, CM11FG\, United Kingdom
ORGANIZER;CN="Master Anna Welch":MAILTO:anna.welch@blueyonder.co.uk
END:VEVENT
BEGIN:VEVENT
DTSTART;TZID=Europe/London:20220618T153000
DTEND;TZID=Europe/London:20220618T163000
DTSTAMP:20260425T222103
CREATED:20201214T115545Z
LAST-MODIFIED:20201214T115545Z
UID:15791-1655566200-1655569800@tangsoudao.com
SUMMARY:Haywards Heath RH16 Saturdays
DESCRIPTION:
URL:https://tangsoudao.com/event/haywards-heath-rh16-saturdays-2022-06-18/
LOCATION:Dolphin Leisure Centre\, RH16\, Pasture Hill Road\, Haywards Heath\, West Sussex\, RH16 1LY\, United Kingdom
END:VEVENT
BEGIN:VEVENT
DTSTART;TZID=UTC:20220618T123000
DTEND;TZID=UTC:20220618T133000
DTSTAMP:20260425T222103
CREATED:20200529T133232Z
LAST-MODIFIED:20201214T113251Z
UID:9739-1655555400-1655559000@tangsoudao.com
SUMMARY:Grays RM17 Saturday Mixed Class
DESCRIPTION:Grays BTSDF HQ\, Cromwell Road\, RM17 5HFSaturdays 12.30pm-1.30pmMixed ages and abilities
URL:https://tangsoudao.com/event/grays-rm17-saturday-mixed-class-2022-06-18/
LOCATION:Normanhall\, Grays\, RM17\, Cromwell Road\, Grays\, Essex\, RM17 5HF\, United Kingdom
ORGANIZER;CN="Grandmaster MK Loke":MAILTO:tangsoudao@aol.com
END:VEVENT
BEGIN:VEVENT
DTSTART;TZID=UTC:20220618T111500
DTEND;TZID=UTC:20220618T121500
DTSTAMP:20260425T222103
CREATED:20200529T133008Z
LAST-MODIFIED:20210531T215254Z
UID:12667-1655550900-1655554500@tangsoudao.com
SUMMARY:Grays RM17 Weekend Children Classes
DESCRIPTION:Grays BTSDF HQ\, Cromwell Road\, Grays\, RM17 5HFSaturdays 11.00am-12.00pmChildren under 11 classes
URL:https://tangsoudao.com/event/grays-rm17-weekend-children-classes-2022-06-18/
LOCATION:Normanhall\, Grays\, RM17\, Cromwell Road\, Grays\, Essex\, RM17 5HF\, United Kingdom
ORGANIZER;CN="Grandmaster MK Loke":MAILTO:tangsoudao@aol.com
END:VEVENT
BEGIN:VEVENT
DTSTART;TZID=UTC:20220618T103000
DTEND;TZID=UTC:20220618T113000
DTSTAMP:20260425T222103
CREATED:20200529T135945Z
LAST-MODIFIED:20210511T084654Z
UID:8913-1655548200-1655551800@tangsoudao.com
SUMMARY:Loughton IG9 Saturday Mixed Class
DESCRIPTION:Loughton Methodist Church\, High Road\, IG10 1RBSaturdays 10.30am-11.30amMixed ages and mixed abilities
URL:https://tangsoudao.com/event/loughton-ig10-2022-06-18/
LOCATION:Loughton Methodist Church\, IG10\, High Road\, Loughton\, Loughton\, IG101RB\, United Kingdom
ORGANIZER;CN="Bizhan Pourkomailian":MAILTO:bizhan@talktalk.net
END:VEVENT
BEGIN:VEVENT
DTSTART;TZID=UTC:20220618T100000
DTEND;TZID=UTC:20220618T110000
DTSTAMP:20260425T222103
CREATED:20200529T151601Z
LAST-MODIFIED:20200529T151601Z
UID:10226-1655546400-1655550000@tangsoudao.com
SUMMARY:Rainham RM13 Saturdays
DESCRIPTION:Brenda Blakemore Community Centre\, Davies Close\, Rainham\, Essex\, RM13 9JLSaturdays 10am-11amMixed ages and mixed abilities
URL:https://tangsoudao.com/event/rainham-rm13-saturdays-2022-06-18/
LOCATION:Brenda Blakemore Community Centre\, RM13\, Davies Close\, Rainham\, Essex\, RM13 9JL\, United Kingdom
ORGANIZER;CN="Master David Hopkins":MAILTO:david55hopkins@btinternet.com
END:VEVENT
BEGIN:VEVENT
DTSTART;TZID=Europe/London:20220618T090000
DTEND;TZID=Europe/London:20220618T120000
DTSTAMP:20260425T222103
CREATED:20201214T124303Z
LAST-MODIFIED:20201214T124303Z
UID:16082-1655542800-1655553600@tangsoudao.com
SUMMARY:Grafham PE28 Saturdays- 3 classes
DESCRIPTION:Grafham Village Hall\, Brampton Road\, PE28 0URSaturday- three separate sessions\, 9am-10am\, 10am-11am and 11am-12noon. Mixed ages and mixed abilities
URL:https://tangsoudao.com/event/grafham-pe28-saturdays-3-classes-2022-06-18/
LOCATION:Grafham Village Hall\, PE28\, Grafham Village Hall\, Brampton Road\, Grafham\, PE28 0BG\, United Kingdom
ORGANIZER;CN="Master Steven Treadaway":MAILTO:steven.treadaway@talktalk.net
END:VEVENT
BEGIN:VEVENT
DTSTART;TZID=UTC:20220617T190000
DTEND;TZID=UTC:20220617T200000
DTSTAMP:20260425T222103
CREATED:20200529T132618Z
LAST-MODIFIED:20201214T122429Z
UID:8653-1655492400-1655496000@tangsoudao.com
SUMMARY:Grays RM17  Weekday mixed classes
DESCRIPTION:Grays BTSDF HQ\, Cromwell Road\, Grays\, RM17 5HFMon to Fri 7.15pm-8.15pmMixed ages and mixed abilities
URL:https://tangsoudao.com/event/grays-rm17-weekday-mixed-classes-2022-06-17/
LOCATION:Normanhall\, Grays\, RM17\, Cromwell Road\, Grays\, Essex\, RM17 5HF\, United Kingdom
ORGANIZER;CN="Grandmaster MK Loke":MAILTO:tangsoudao@aol.com
END:VEVENT
BEGIN:VEVENT
DTSTART;TZID=UTC:20220617T180000
DTEND;TZID=UTC:20220617T190000
DTSTAMP:20260425T222103
CREATED:20200530T171755Z
LAST-MODIFIED:20200530T171755Z
UID:12238-1655488800-1655492400@tangsoudao.com
SUMMARY:Reading RG4 Weekday Classes
DESCRIPTION:Highdown Sports Centre\, Surley Row\, Caversham\, RG48LRWeds and Fri 6.00pm- 7.00pmMixed ages and mixed abilities
URL:https://tangsoudao.com/event/reading-rg4-3-2022-06-17/
LOCATION:Highdown Sportscentre Reading\, RG4\, Highdown sports centre\, Caversham\, Reading\, RG48LR\, United Kingdom
ORGANIZER;CN="Master Nazim Gokcezade":MAILTO:nazim.gokcezade@ntlworld.com
END:VEVENT
BEGIN:VEVENT
DTSTART;TZID=UTC:20220617T180000
DTEND;TZID=UTC:20220617T190000
DTSTAMP:20260425T222103
CREATED:20200529T132354Z
LAST-MODIFIED:20201214T112229Z
UID:11486-1655488800-1655492400@tangsoudao.com
SUMMARY:Grays RM17 Weekday Children Classes
DESCRIPTION:Grays BTSDF HQ\, Cromwell Road\, Grays\, RM17 5HFMon to Fridays 6pm-7pmChildren under 11 only classes
URL:https://tangsoudao.com/event/grays-rm17-2022-06-17/
LOCATION:Normanhall\, Grays\, RM17\, Cromwell Road\, Grays\, Essex\, RM17 5HF\, United Kingdom
ORGANIZER;CN="Grandmaster MK Loke":MAILTO:tangsoudao@aol.com
END:VEVENT
BEGIN:VEVENT
DTSTART;TZID=UTC:20220616T190000
DTEND;TZID=UTC:20220616T200000
DTSTAMP:20260425T222103
CREATED:20200529T152328Z
LAST-MODIFIED:20200529T152328Z
UID:13932-1655406000-1655409600@tangsoudao.com
SUMMARY:Canary Wharf E14 Weekdays
DESCRIPTION:Canary Wharf College\, 197 Eastferry Road\, E14 3BAMon and Thurs 7pm-8pmMixed ages and mixed abilities
URL:https://tangsoudao.com/event/canary-wharf-e14-weekdays-2022-06-16/
LOCATION:Canary Wharf College\, Eastferry Road\, E14\, 197 Eastferry Road\, Canary Wharf\, East London\, E143BA\, United Kingdom
ORGANIZER;CN="Master Siew Ying Loke":MAILTO:Siewloke@hotmail.com
END:VEVENT
BEGIN:VEVENT
DTSTART;TZID=UTC:20220616T190000
DTEND;TZID=UTC:20220616T200000
DTSTAMP:20260425T222103
CREATED:20200529T135800Z
LAST-MODIFIED:20200529T135800Z
UID:23954-1655406000-1655409600@tangsoudao.com
SUMMARY:Rochford SS5 Thursdays
DESCRIPTION:Clements Hall Leisure Centre\, Hawkwell\, Rochford\, SS5 4LNThursdays 7pm-8pmMixed ages and mixed abilities
URL:https://tangsoudao.com/event/rochford-ss5-2022-06-16/
LOCATION:Clements Hall Leisure Centre\, SS5\, Hawkwell\, Hockley\, Essex\, SS5 4LN\, United Kingdom
ORGANIZER;CN="Grandmaster MK Loke":MAILTO:tangsoudao@aol.com
END:VEVENT
BEGIN:VEVENT
DTSTART;TZID=UTC:20220616T190000
DTEND;TZID=UTC:20220616T200000
DTSTAMP:20260425T222103
CREATED:20200529T132618Z
LAST-MODIFIED:20201214T122429Z
UID:8652-1655406000-1655409600@tangsoudao.com
SUMMARY:Grays RM17  Weekday mixed classes
DESCRIPTION:Grays BTSDF HQ\, Cromwell Road\, Grays\, RM17 5HFMon to Fri 7.15pm-8.15pmMixed ages and mixed abilities
URL:https://tangsoudao.com/event/grays-rm17-weekday-mixed-classes-2022-06-16/
LOCATION:Normanhall\, Grays\, RM17\, Cromwell Road\, Grays\, Essex\, RM17 5HF\, United Kingdom
ORGANIZER;CN="Grandmaster MK Loke":MAILTO:tangsoudao@aol.com
END:VEVENT
BEGIN:VEVENT
DTSTART;TZID=UTC:20220616T180000
DTEND;TZID=UTC:20220616T190000
DTSTAMP:20260425T222103
CREATED:20200529T132354Z
LAST-MODIFIED:20201214T112228Z
UID:11485-1655402400-1655406000@tangsoudao.com
SUMMARY:Grays RM17 Weekday Children Classes
DESCRIPTION:Grays BTSDF HQ\, Cromwell Road\, Grays\, RM17 5HFMon to Fridays 6pm-7pmChildren under 11 only classes
URL:https://tangsoudao.com/event/grays-rm17-2022-06-16/
LOCATION:Normanhall\, Grays\, RM17\, Cromwell Road\, Grays\, Essex\, RM17 5HF\, United Kingdom
ORGANIZER;CN="Grandmaster MK Loke":MAILTO:tangsoudao@aol.com
END:VEVENT
BEGIN:VEVENT
DTSTART;TZID=Europe/London:20220616T080000
DTEND;TZID=Europe/London:20220616T083000
DTSTAMP:20260425T222103
CREATED:20201214T130601Z
LAST-MODIFIED:20201214T131228Z
UID:16489-1655366400-1655368200@tangsoudao.com
SUMMARY:Rainham RM13 Thursdays
DESCRIPTION:Brenda Blakemore Community Centre\, RM13 9JLThursdays 6.30pm-7.30pmMixed ages and Mixed abilities
URL:https://tangsoudao.com/event/rainham-rm13-thursdays-2-2022-06-16/
LOCATION:Brenda Blakemore Community Centre\, RM13\, Davies Close\, Rainham\, Essex\, RM13 9JL\, United Kingdom
ORGANIZER;CN="Master David Hopkins":MAILTO:david55hopkins@btinternet.com
END:VEVENT
BEGIN:VEVENT
DTSTART;TZID=UTC:20220615T200000
DTEND;TZID=UTC:20220615T210000
DTSTAMP:20260425T222103
CREATED:20201213T204712Z
LAST-MODIFIED:20210602T095419Z
UID:13676-1655323200-1655326800@tangsoudao.com
SUMMARY:Chelmsford CM1 Wednesdays Mixed Class
DESCRIPTION:Essex Riverside Ice and Leisure\, Victoria Road\, Chelmsford\, CM1 1FGWednesdays 8pm-9pmMixed ages and mixed abilities
URL:https://tangsoudao.com/event/chelmsford-cm1-wednesdays-mixed-class-2022-06-15/
LOCATION:Essex Riverside Ice and Leisure\, CM1\, Victoria Road\, Chelmsford\, Essex\, CM11FG\, United Kingdom
ORGANIZER;CN="Master Anna Welch":MAILTO:anna.welch@blueyonder.co.uk
END:VEVENT
END:VCALENDAR