BEGIN:VCALENDAR
VERSION:2.0
PRODID:-//Tang Sou Dao - ECPv6.15.13//NONSGML v1.0//EN
CALSCALE:GREGORIAN
METHOD:PUBLISH
X-WR-CALNAME:Tang Sou Dao
X-ORIGINAL-URL:https://tangsoudao.com
X-WR-CALDESC:Events for Tang Sou Dao
REFRESH-INTERVAL;VALUE=DURATION:PT1H
X-Robots-Tag:noindex
X-PUBLISHED-TTL:PT1H
BEGIN:VTIMEZONE
TZID:UTC
BEGIN:STANDARD
TZOFFSETFROM:+0000
TZOFFSETTO:+0000
TZNAME:UTC
DTSTART:20210101T000000
END:STANDARD
END:VTIMEZONE
BEGIN:VTIMEZONE
TZID:Europe/London
BEGIN:DAYLIGHT
TZOFFSETFROM:+0000
TZOFFSETTO:+0100
TZNAME:BST
DTSTART:20210328T010000
END:DAYLIGHT
BEGIN:STANDARD
TZOFFSETFROM:+0100
TZOFFSETTO:+0000
TZNAME:GMT
DTSTART:20211031T010000
END:STANDARD
BEGIN:DAYLIGHT
TZOFFSETFROM:+0000
TZOFFSETTO:+0100
TZNAME:BST
DTSTART:20220327T010000
END:DAYLIGHT
BEGIN:STANDARD
TZOFFSETFROM:+0100
TZOFFSETTO:+0000
TZNAME:GMT
DTSTART:20221030T010000
END:STANDARD
BEGIN:DAYLIGHT
TZOFFSETFROM:+0000
TZOFFSETTO:+0100
TZNAME:BST
DTSTART:20230326T010000
END:DAYLIGHT
BEGIN:STANDARD
TZOFFSETFROM:+0100
TZOFFSETTO:+0000
TZNAME:GMT
DTSTART:20231029T010000
END:STANDARD
END:VTIMEZONE
BEGIN:VEVENT
DTSTART;TZID=UTC:20220616T190000
DTEND;TZID=UTC:20220616T200000
DTSTAMP:20260426T011233
CREATED:20200529T152328Z
LAST-MODIFIED:20200529T152328Z
UID:13932-1655406000-1655409600@tangsoudao.com
SUMMARY:Canary Wharf E14 Weekdays
DESCRIPTION:Canary Wharf College\, 197 Eastferry Road\, E14 3BAMon and Thurs 7pm-8pmMixed ages and mixed abilities
URL:https://tangsoudao.com/event/canary-wharf-e14-weekdays-2022-06-16/
LOCATION:Canary Wharf College\, Eastferry Road\, E14\, 197 Eastferry Road\, Canary Wharf\, East London\, E143BA\, United Kingdom
ORGANIZER;CN="Master Siew Ying Loke":MAILTO:Siewloke@hotmail.com
END:VEVENT
BEGIN:VEVENT
DTSTART;TZID=UTC:20220616T190000
DTEND;TZID=UTC:20220616T200000
DTSTAMP:20260426T011233
CREATED:20200529T135800Z
LAST-MODIFIED:20200529T135800Z
UID:23954-1655406000-1655409600@tangsoudao.com
SUMMARY:Rochford SS5 Thursdays
DESCRIPTION:Clements Hall Leisure Centre\, Hawkwell\, Rochford\, SS5 4LNThursdays 7pm-8pmMixed ages and mixed abilities
URL:https://tangsoudao.com/event/rochford-ss5-2022-06-16/
LOCATION:Clements Hall Leisure Centre\, SS5\, Hawkwell\, Hockley\, Essex\, SS5 4LN\, United Kingdom
ORGANIZER;CN="Grandmaster MK Loke":MAILTO:tangsoudao@aol.com
END:VEVENT
BEGIN:VEVENT
DTSTART;TZID=UTC:20220616T190000
DTEND;TZID=UTC:20220616T200000
DTSTAMP:20260426T011233
CREATED:20200529T132618Z
LAST-MODIFIED:20201214T122429Z
UID:8652-1655406000-1655409600@tangsoudao.com
SUMMARY:Grays RM17  Weekday mixed classes
DESCRIPTION:Grays BTSDF HQ\, Cromwell Road\, Grays\, RM17 5HFMon to Fri 7.15pm-8.15pmMixed ages and mixed abilities
URL:https://tangsoudao.com/event/grays-rm17-weekday-mixed-classes-2022-06-16/
LOCATION:Normanhall\, Grays\, RM17\, Cromwell Road\, Grays\, Essex\, RM17 5HF\, United Kingdom
ORGANIZER;CN="Grandmaster MK Loke":MAILTO:tangsoudao@aol.com
END:VEVENT
BEGIN:VEVENT
DTSTART;TZID=UTC:20220616T180000
DTEND;TZID=UTC:20220616T190000
DTSTAMP:20260426T011233
CREATED:20200529T132354Z
LAST-MODIFIED:20201214T112228Z
UID:11485-1655402400-1655406000@tangsoudao.com
SUMMARY:Grays RM17 Weekday Children Classes
DESCRIPTION:Grays BTSDF HQ\, Cromwell Road\, Grays\, RM17 5HFMon to Fridays 6pm-7pmChildren under 11 only classes
URL:https://tangsoudao.com/event/grays-rm17-2022-06-16/
LOCATION:Normanhall\, Grays\, RM17\, Cromwell Road\, Grays\, Essex\, RM17 5HF\, United Kingdom
ORGANIZER;CN="Grandmaster MK Loke":MAILTO:tangsoudao@aol.com
END:VEVENT
BEGIN:VEVENT
DTSTART;TZID=Europe/London:20220616T080000
DTEND;TZID=Europe/London:20220616T083000
DTSTAMP:20260426T011233
CREATED:20201214T130601Z
LAST-MODIFIED:20201214T131228Z
UID:16489-1655366400-1655368200@tangsoudao.com
SUMMARY:Rainham RM13 Thursdays
DESCRIPTION:Brenda Blakemore Community Centre\, RM13 9JLThursdays 6.30pm-7.30pmMixed ages and Mixed abilities
URL:https://tangsoudao.com/event/rainham-rm13-thursdays-2-2022-06-16/
LOCATION:Brenda Blakemore Community Centre\, RM13\, Davies Close\, Rainham\, Essex\, RM13 9JL\, United Kingdom
ORGANIZER;CN="Master David Hopkins":MAILTO:david55hopkins@btinternet.com
END:VEVENT
BEGIN:VEVENT
DTSTART;TZID=UTC:20220615T200000
DTEND;TZID=UTC:20220615T210000
DTSTAMP:20260426T011233
CREATED:20201213T204712Z
LAST-MODIFIED:20210602T095419Z
UID:13676-1655323200-1655326800@tangsoudao.com
SUMMARY:Chelmsford CM1 Wednesdays Mixed Class
DESCRIPTION:Essex Riverside Ice and Leisure\, Victoria Road\, Chelmsford\, CM1 1FGWednesdays 8pm-9pmMixed ages and mixed abilities
URL:https://tangsoudao.com/event/chelmsford-cm1-wednesdays-mixed-class-2022-06-15/
LOCATION:Essex Riverside Ice and Leisure\, CM1\, Victoria Road\, Chelmsford\, Essex\, CM11FG\, United Kingdom
ORGANIZER;CN="Master Anna Welch":MAILTO:anna.welch@blueyonder.co.uk
END:VEVENT
BEGIN:VEVENT
DTSTART;TZID=UTC:20220615T190000
DTEND;TZID=UTC:20220615T200000
DTSTAMP:20260426T011233
CREATED:20200529T132618Z
LAST-MODIFIED:20201214T122428Z
UID:8651-1655319600-1655323200@tangsoudao.com
SUMMARY:Grays RM17  Weekday mixed classes
DESCRIPTION:Grays BTSDF HQ\, Cromwell Road\, Grays\, RM17 5HFMon to Fri 7.15pm-8.15pmMixed ages and mixed abilities
URL:https://tangsoudao.com/event/grays-rm17-weekday-mixed-classes-2022-06-15/
LOCATION:Normanhall\, Grays\, RM17\, Cromwell Road\, Grays\, Essex\, RM17 5HF\, United Kingdom
ORGANIZER;CN="Grandmaster MK Loke":MAILTO:tangsoudao@aol.com
END:VEVENT
BEGIN:VEVENT
DTSTART;TZID=UTC:20220615T180000
DTEND;TZID=UTC:20220615T193000
DTSTAMP:20260426T011233
CREATED:20200514T133624Z
LAST-MODIFIED:20210602T101330Z
UID:18979-1655316000-1655321400@tangsoudao.com
SUMMARY:Reading RG4 Red Belts Up
DESCRIPTION:Highdown Sports Centre\, Surley Row\, Caversham\, RG48LRFri 7.30pm- 9pmRed Belts and Above \n\n\n\n\n\n\n\n\n\n\n\n\n\n\n\n\n\n\n\nMixed Ages and Mixed Abilities
URL:https://tangsoudao.com/event/reading-rg4-2022-06-15/
LOCATION:Highdown Sportscentre Reading\, RG4\, Highdown sports centre\, Caversham\, Reading\, RG48LR\, United Kingdom
END:VEVENT
BEGIN:VEVENT
DTSTART;TZID=UTC:20220615T180000
DTEND;TZID=UTC:20220615T190000
DTSTAMP:20260426T011233
CREATED:20200907T112133Z
LAST-MODIFIED:20200907T112133Z
UID:16385-1655316000-1655319600@tangsoudao.com
SUMMARY:Rainham RM13 Wednesdays
DESCRIPTION:Brenda Blakemore Community Centre\, RM13 9JLWednesdays 6pm-7pm Mixed ages and Mixed abilities
URL:https://tangsoudao.com/event/rainham-rm13-wednesdays-2022-06-15/
LOCATION:Brenda Blakemore Community Centre\, RM13\, Davies Close\, Rainham\, Essex\, RM13 9JL\, United Kingdom
END:VEVENT
BEGIN:VEVENT
DTSTART;TZID=UTC:20220615T180000
DTEND;TZID=UTC:20220615T190000
DTSTAMP:20260426T011233
CREATED:20200530T171755Z
LAST-MODIFIED:20200530T171755Z
UID:12237-1655316000-1655319600@tangsoudao.com
SUMMARY:Reading RG4 Weekday Classes
DESCRIPTION:Highdown Sports Centre\, Surley Row\, Caversham\, RG48LRWeds and Fri 6.00pm- 7.00pmMixed ages and mixed abilities
URL:https://tangsoudao.com/event/reading-rg4-3-2022-06-15/
LOCATION:Highdown Sportscentre Reading\, RG4\, Highdown sports centre\, Caversham\, Reading\, RG48LR\, United Kingdom
ORGANIZER;CN="Master Nazim Gokcezade":MAILTO:nazim.gokcezade@ntlworld.com
END:VEVENT
BEGIN:VEVENT
DTSTART;TZID=UTC:20220615T180000
DTEND;TZID=UTC:20220615T190000
DTSTAMP:20260426T011233
CREATED:20200529T132354Z
LAST-MODIFIED:20200529T132354Z
UID:14424-1655316000-1655319600@tangsoudao.com
SUMMARY:Grays RM17 Weekday Children Classes
DESCRIPTION:Grays BTSDF HQ\, Cromwell Road\, Grays\, RM17 5HFMon to Fridays 6pm-7pmChildren under 11 only classes
URL:https://tangsoudao.com/event/grays-rm17-2022-06-15/
LOCATION:Normanhall\, Grays\, RM17\, Cromwell Road\, Grays\, Essex\, RM17 5HF\, United Kingdom
ORGANIZER;CN="Grandmaster MK Loke":MAILTO:tangsoudao@aol.com
END:VEVENT
BEGIN:VEVENT
DTSTART;TZID=Europe/London:20220614T190000
DTEND;TZID=Europe/London:20220614T200000
DTSTAMP:20260426T011233
CREATED:20210511T084537Z
LAST-MODIFIED:20210511T084537Z
UID:18573-1655233200-1655236800@tangsoudao.com
SUMMARY:Loughton IG9 Tuesday Mixed Class
DESCRIPTION:Loughton Methodist Church\, High Road\, IG10 1RBSaturdays 10.30am-11.30amMixed ages and mixed abilities
URL:https://tangsoudao.com/event/loughton-ig9-tuesday-mixed-class-2022-06-14/
LOCATION:Loughton Methodist Church\, IG10\, High Road\, Loughton\, Loughton\, IG101RB\, United Kingdom
ORGANIZER;CN="Bizhan Pourkomailian":MAILTO:bizhan@talktalk.net
END:VEVENT
BEGIN:VEVENT
DTSTART;TZID=UTC:20220614T190000
DTEND;TZID=UTC:20220614T200000
DTSTAMP:20260426T011233
CREATED:20200529T132618Z
LAST-MODIFIED:20201214T122428Z
UID:8650-1655233200-1655236800@tangsoudao.com
SUMMARY:Grays RM17  Weekday mixed classes
DESCRIPTION:Grays BTSDF HQ\, Cromwell Road\, Grays\, RM17 5HFMon to Fri 7.15pm-8.15pmMixed ages and mixed abilities
URL:https://tangsoudao.com/event/grays-rm17-weekday-mixed-classes-2022-06-14/
LOCATION:Normanhall\, Grays\, RM17\, Cromwell Road\, Grays\, Essex\, RM17 5HF\, United Kingdom
ORGANIZER;CN="Grandmaster MK Loke":MAILTO:tangsoudao@aol.com
END:VEVENT
BEGIN:VEVENT
DTSTART;TZID=UTC:20220614T181500
DTEND;TZID=UTC:20220614T191500
DTSTAMP:20260426T011233
CREATED:20200529T131254Z
LAST-MODIFIED:20201214T144622Z
UID:9301-1655230500-1655234100@tangsoudao.com
SUMMARY:Tidmarsh RG8 Tuesdays
DESCRIPTION:Tidmarsh Village Hall\, Tidmarsh\, RG8 8ESTuesdays 6.15pm-7.15pmMixed ages and mixed abilities
URL:https://tangsoudao.com/event/tidmarsh-rg8-2022-06-14/
LOCATION:Tidmarsh Village Hall\, Tidmarsh\, RG8\, Tidmarsh Village Hall\, Tidmarsh\, Reading\, RG8 8ES\, United Kingdom
ORGANIZER;CN="Master Nazim Gokcezade":MAILTO:nazim.gokcezade@ntlworld.com
END:VEVENT
BEGIN:VEVENT
DTSTART;TZID=UTC:20220614T180000
DTEND;TZID=UTC:20220614T190000
DTSTAMP:20260426T011233
CREATED:20200529T132354Z
LAST-MODIFIED:20201214T112228Z
UID:11484-1655229600-1655233200@tangsoudao.com
SUMMARY:Grays RM17 Weekday Children Classes
DESCRIPTION:Grays BTSDF HQ\, Cromwell Road\, Grays\, RM17 5HFMon to Fridays 6pm-7pmChildren under 11 only classes
URL:https://tangsoudao.com/event/grays-rm17-2022-06-14/
LOCATION:Normanhall\, Grays\, RM17\, Cromwell Road\, Grays\, Essex\, RM17 5HF\, United Kingdom
ORGANIZER;CN="Grandmaster MK Loke":MAILTO:tangsoudao@aol.com
END:VEVENT
BEGIN:VEVENT
DTSTART;TZID=UTC:20220614T170000
DTEND;TZID=UTC:20220614T180000
DTSTAMP:20260426T011233
CREATED:20200529T130846Z
LAST-MODIFIED:20210511T084934Z
UID:11535-1655226000-1655229600@tangsoudao.com
SUMMARY:Reading RG7 Tuesdays
DESCRIPTION:Bucklebury Village\, Victory Room\, Bucklebury\, RG7 6PSTuesdays 5pm-6pmMixed ages and mixed abilities
URL:https://tangsoudao.com/event/reading-rg7-2022-06-14/
LOCATION:Victory Room\, Bucklebury Village\, Reading\, RG7\, Bucklebury Village\, Bucklebury\, Reading\, RG76PS\, United Kingdom
ORGANIZER;CN="Master Nazim Gokcezade":MAILTO:nazim.gokcezade@ntlworld.com
END:VEVENT
BEGIN:VEVENT
DTSTART;TZID=UTC:20220613T200000
DTEND;TZID=UTC:20220613T210000
DTSTAMP:20260426T011233
CREATED:20200529T151151Z
LAST-MODIFIED:20200907T124456Z
UID:11178-1655150400-1655154000@tangsoudao.com
SUMMARY:Basildon SS14 CLASS CURRENTLY SUSPENDED
DESCRIPTION:Kreate Dance Centre\, 30 Bowlers Croft\, Basildon\, SS14 3EEMondays 8pm-9pmMixed ages and mixed abilities
URL:https://tangsoudao.com/event/basildon-ss14-2022-06-13/
LOCATION:Kreate Dance Centre\, SS14\, 30 Bowlers Croft\, Basildon\, Essex\, SS14 3EE\, United Kingdom
END:VEVENT
BEGIN:VEVENT
DTSTART;TZID=UTC:20220613T190000
DTEND;TZID=UTC:20220613T200000
DTSTAMP:20260426T011233
CREATED:20200529T152328Z
LAST-MODIFIED:20200529T152328Z
UID:13931-1655146800-1655150400@tangsoudao.com
SUMMARY:Canary Wharf E14 Weekdays
DESCRIPTION:Canary Wharf College\, 197 Eastferry Road\, E14 3BAMon and Thurs 7pm-8pmMixed ages and mixed abilities
URL:https://tangsoudao.com/event/canary-wharf-e14-weekdays-2022-06-13/
LOCATION:Canary Wharf College\, Eastferry Road\, E14\, 197 Eastferry Road\, Canary Wharf\, East London\, E143BA\, United Kingdom
ORGANIZER;CN="Master Siew Ying Loke":MAILTO:Siewloke@hotmail.com
END:VEVENT
BEGIN:VEVENT
DTSTART;TZID=UTC:20220613T190000
DTEND;TZID=UTC:20220613T200000
DTSTAMP:20260426T011233
CREATED:20200529T132618Z
LAST-MODIFIED:20201214T122412Z
UID:8649-1655146800-1655150400@tangsoudao.com
SUMMARY:Grays RM17  Weekday mixed classes
DESCRIPTION:Grays BTSDF HQ\, Cromwell Road\, Grays\, RM17 5HFMon to Fri 7.15pm-8.15pmMixed ages and mixed abilities
URL:https://tangsoudao.com/event/grays-rm17-weekday-mixed-classes-2022-06-13/
LOCATION:Normanhall\, Grays\, RM17\, Cromwell Road\, Grays\, Essex\, RM17 5HF\, United Kingdom
ORGANIZER;CN="Grandmaster MK Loke":MAILTO:tangsoudao@aol.com
END:VEVENT
BEGIN:VEVENT
DTSTART;TZID=UTC:20220613T180000
DTEND;TZID=UTC:20220613T190000
DTSTAMP:20260426T011233
CREATED:20200529T132354Z
LAST-MODIFIED:20200529T132354Z
UID:14423-1655143200-1655146800@tangsoudao.com
SUMMARY:Grays RM17 Weekday Children Classes
DESCRIPTION:Grays BTSDF HQ\, Cromwell Road\, Grays\, RM17 5HFMon to Fridays 6pm-7pmChildren under 11 only classes
URL:https://tangsoudao.com/event/grays-rm17-2022-06-13/
LOCATION:Normanhall\, Grays\, RM17\, Cromwell Road\, Grays\, Essex\, RM17 5HF\, United Kingdom
ORGANIZER;CN="Grandmaster MK Loke":MAILTO:tangsoudao@aol.com
END:VEVENT
BEGIN:VEVENT
DTSTART;TZID=Europe/London:20220612T131500
DTEND;TZID=Europe/London:20220612T141500
DTSTAMP:20260426T011233
CREATED:20201214T122554Z
LAST-MODIFIED:20201214T122919Z
UID:15876-1655039700-1655043300@tangsoudao.com
SUMMARY:Hornchurch RM11 Sundays
DESCRIPTION:Harrow Lodge Sports centre\, Hornchurch\, RM11 1JUSundays 1.15pm-2.15pmMixed ages and mixed abilities
URL:https://tangsoudao.com/event/hornchurch-rm11-sundays-2022-06-12/
LOCATION:Harrow Lodge Sportscentre\, RM11\, Harrow Lodge Park\, Hornchurch\, Essex\, RM11 1JU\, United Kingdom
ORGANIZER;CN="Grandmaster MK Loke":MAILTO:tangsoudao@aol.com
END:VEVENT
BEGIN:VEVENT
DTSTART;TZID=Europe/London:20220612T120000
DTEND;TZID=Europe/London:20220612T143000
DTSTAMP:20260426T011233
CREATED:20211223T103759Z
LAST-MODIFIED:20211223T103801Z
UID:21400-1655035200-1655044200@tangsoudao.com
SUMMARY:Ji Grading 12 June 2022
DESCRIPTION:There is a training session at 12.15-1.15pm which is followed by the Ji grading. Those who are grading should bring along their membership book and grading form together with the appropriate fee (advised by your instructor). All those grading must be in current membership and attend the grading in a clean and tidy uniform with the proper badges and backpatch.
URL:https://tangsoudao.com/event/ji-grading-12-june-2022/
LOCATION:Normanhall\, Grays\, RM17\, Cromwell Road\, Grays\, Essex\, RM17 5HF\, United Kingdom
CATEGORIES:Gradings
ORGANIZER;CN="Grandmaster MK Loke":MAILTO:tangsoudao@aol.com
END:VEVENT
BEGIN:VEVENT
DTSTART;TZID=UTC:20220612T113000
DTEND;TZID=UTC:20220612T123000
DTSTAMP:20260426T011233
CREATED:20200808T133910Z
LAST-MODIFIED:20201214T110743Z
UID:12795-1655033400-1655037000@tangsoudao.com
SUMMARY:Zoom Class Sundays
DESCRIPTION:Email tangsoudao@aol.com for joining and payment details
URL:https://tangsoudao.com/event/zoom-class-sundays-2022-06-12/
LOCATION:Grafham
ORGANIZER;CN="Master Siew Ying Loke":MAILTO:Siewloke@hotmail.com
END:VEVENT
BEGIN:VEVENT
DTSTART;TZID=UTC:20220612T110000
DTEND;TZID=UTC:20220612T120000
DTSTAMP:20260426T011233
CREATED:20201213T204517Z
LAST-MODIFIED:20210702T103948Z
UID:13626-1655031600-1655035200@tangsoudao.com
SUMMARY:Chelmsford CM1 Sundays 11.30am Mixed Class
DESCRIPTION:Essex Riverside Ice and Leisure\, Victoria Road\, Chelmsford\, CM1 1FGSundays 11.30am-12.30noonMixed ages and mixed abilities
URL:https://tangsoudao.com/event/chelmsford-cm1-sundays-11am-mixed-class-2022-06-12/
LOCATION:Essex Riverside Ice and Leisure\, CM1\, Victoria Road\, Chelmsford\, Essex\, CM11FG\, United Kingdom
ORGANIZER;CN="Master Anna Welch":MAILTO:anna.welch@blueyonder.co.uk
END:VEVENT
BEGIN:VEVENT
DTSTART;TZID=UTC:20220612T110000
DTEND;TZID=UTC:20220612T120000
DTSTAMP:20260426T011233
CREATED:20200907T102504Z
LAST-MODIFIED:20210704T090908Z
UID:16948-1655031600-1655035200@tangsoudao.com
SUMMARY:Chelmsford Sunday Mixed Class
DESCRIPTION:Essex Riverside Ice and Leisure\, Victoria Road\, Chelmsford\, CM1 1FGSundays 11.30am-12.30pmMixed ages and mixed abilities.
URL:https://tangsoudao.com/event/chelmsford-sunday-mixed-class-2022-06-12/
LOCATION:Essex Riverside Ice and Leisure\, CM1\, Victoria Road\, Chelmsford\, Essex\, CM11FG\, United Kingdom
ORGANIZER;CN="Master Anna Welch":MAILTO:anna.welch@blueyonder.co.uk
END:VEVENT
BEGIN:VEVENT
DTSTART;TZID=UTC:20220612T110000
DTEND;TZID=UTC:20220612T120000
DTSTAMP:20260426T011233
CREATED:20200529T133426Z
LAST-MODIFIED:20201214T112702Z
UID:9789-1655031600-1655035200@tangsoudao.com
SUMMARY:Grays RM17 Sunday Mixed Classes
DESCRIPTION:Grays BTSDF HQ\, Cromwell Road\, Grays\, RM17 5HFSundays 11am-12noonMixed ages and mixed abilities
URL:https://tangsoudao.com/event/grays-rm17-sunday-mixed-classes-2022-06-12/
LOCATION:Normanhall\, Grays\, RM17\, Cromwell Road\, Grays\, Essex\, RM17 5HF\, United Kingdom
ORGANIZER;CN="Grandmaster MK Loke":MAILTO:tangsoudao@aol.com
END:VEVENT
BEGIN:VEVENT
DTSTART;TZID=UTC:20220612T100000
DTEND;TZID=UTC:20220612T110000
DTSTAMP:20260426T011233
CREATED:20200907T103334Z
LAST-MODIFIED:20201214T143759Z
UID:9174-1655028000-1655031600@tangsoudao.com
SUMMARY:Reading RG4 Sunday Classes
DESCRIPTION:Highdown Sportscentre\, Reading\, RG4 8LRSundays 10am-11amMixed Class and Mixed Abilities
URL:https://tangsoudao.com/event/reading-rg4-sunday-classes-2022-06-12/
LOCATION:Highdown Sportscentre Reading\, RG4\, Highdown sports centre\, Caversham\, Reading\, RG48LR\, United Kingdom
ORGANIZER;CN="Master Nazim Gokcezade":MAILTO:nazim.gokcezade@ntlworld.com
END:VEVENT
BEGIN:VEVENT
DTSTART;TZID=UTC:20220612T100000
DTEND;TZID=UTC:20220612T110000
DTSTAMP:20260426T011233
CREATED:20200529T150754Z
LAST-MODIFIED:20210702T075553Z
UID:19917-1655028000-1655031600@tangsoudao.com
SUMMARY:Chelmsford CM1 Sundays 10.30am Family Class.
DESCRIPTION:Essex Riverside Ice and Leisure\, Victoria Road\, Chelmsford\, CM1 1FGSundays 10.30am-11.30amMixed ages and mixed abilities
URL:https://tangsoudao.com/event/chelmsford-cm1-sundays-11-30am-2021-06-06-2022-06-12/
LOCATION:Essex Riverside Ice and Leisure\, CM1\, Victoria Road\, Chelmsford\, Essex\, CM11FG\, United Kingdom
ORGANIZER;CN="Master Anna Welch":MAILTO:anna.welch@blueyonder.co.uk
END:VEVENT
BEGIN:VEVENT
DTSTART;TZID=UTC:20220612T100000
DTEND;TZID=UTC:20220612T110000
DTSTAMP:20260426T011233
CREATED:20200529T150754Z
LAST-MODIFIED:20200529T150754Z
UID:20190-1655028000-1655031600@tangsoudao.com
SUMMARY:Chelmsford CM1 Sundays 10.30am Family Class.
DESCRIPTION:Essex Riverside Ice and Leisure\, Victoria Road\, Chelmsford\, CM1 1FGSundays 1030am-11.30amMixed ages and mixed abilities
URL:https://tangsoudao.com/event/chelmsford-cm1-sundays-11-30am-2022-06-12/
LOCATION:Essex Riverside Ice and Leisure\, CM1\, Victoria Road\, Chelmsford\, Essex\, CM11FG\, United Kingdom
ORGANIZER;CN="Master Anna Welch":MAILTO:anna.welch@blueyonder.co.uk
END:VEVENT
BEGIN:VEVENT
DTSTART;TZID=Europe/London:20220612T090000
DTEND;TZID=Europe/London:20220612T110000
DTSTAMP:20260426T011233
CREATED:20211223T101948Z
LAST-MODIFIED:20220505T081858Z
UID:21378-1655024400-1655031600@tangsoudao.com
SUMMARY:Senior Class 12 June 2022
DESCRIPTION:This is a class for Blue Belts upwards. Focus will be on perfecting your technique and practising advanced combinations and footwork. We will also concentrate on the senior belt forms. You are required to attend a minimum number of classes in order to progress to your Duan grades.
URL:https://tangsoudao.com/event/senior-class-5-june-2022/
LOCATION:Normanhall\, Grays\, RM17\, Cromwell Road\, Grays\, Essex\, RM17 5HF\, United Kingdom
CATEGORIES:Workshops
ORGANIZER;CN="Grandmaster MK Loke":MAILTO:tangsoudao@aol.com
END:VEVENT
END:VCALENDAR